BEGIN:VCALENDAR
VERSION:2.0
PRODID:-//ChamberMaster//Event Calendar 2.0//EN
METHOD:PUBLISH
X-PUBLISHED-TTL:P3D
REFRESH-INTERVAL:P3D
CALSCALE:GREGORIAN
BEGIN:VEVENT
DTSTART;VALUE=DATE:20130924
DTEND;VALUE=DATE:20130926
TRANSP:TRANSPARENT
X-MICROSOFT-CDO-ALLDAYEVENT:TRUE
SUMMARY:Fractured Prune Grand Opening
DESCRIPTION:Fractured Prune Doughnuts will be opening the doors to delicious doughnuts on Tuesday\, Sept. 24 at 5:30 a.m. Guests will be encouraged to let their inner doughnut genius run wild as they select from 11 glazes and 10 toppings to make their hot hand-dipped doughnut just they way they want it. Fractured Prune will feature fun-filled grand opening activities and giveaways\, including: ? The first 12 customers in line for the lobby will receive decked out purple camper chairs (for comfortable waiting)\, a T-shirt and a FREE dozen doughnuts a month for a year card ? The second two dozen people (guests 13-36) receive a T-shirt and a FREE dozen doughnuts on their next visit ? Guests 37-100 receive a T-shirt The fun will also extend to people using the drive-thru. The first 12 drive-thru cars will each receive a T-shirt and a FREE dozen doughnuts a month for a year card. Kids and adults alike will enjoy a funky photo booth\, free sample bites and enter-to-wins.
X-ALT-DESC;FMTTYPE=text/html:Fractured Prune Doughnuts will be opening the doors to delicious doughnuts on Tuesday\, Sept. 24 at 5:30 a.m. Guests will be encouraged to let their inner doughnut genius run wild as they select from 11 glazes and 10 toppings to make their hot hand-dipped doughnut just they way they want it. Fractured Prune will feature fun-filled grand opening activities and giveaways\, including: ? The first 12 customers in line for the lobby will receive decked out purple camper chairs (for comfortable waiting)\, a T-shirt and a FREE dozen doughnuts a month for a year card ? The second two dozen people (guests 13-36) receive a T-shirt and a FREE dozen doughnuts on their next visit ? Guests 37-100 receive a T-shirt The fun will also extend to people using the drive-thru. The first 12 drive-thru cars will each receive a T-shirt and a FREE dozen doughnuts a month for a year card. Kids and adults alike will enjoy a funky photo booth\, free sample bites and enter-to-wins. 
LOCATION:1091 N. Bluff St.\, Suite 101 (Sunset Corner) St. George\, UT 84770
UID:e.1117.4294
SEQUENCE:3
DTSTAMP:20260421T213428Z
URL:https://business.stgeorgechamber.com/events/details/fractured-prune-grand-opening-09-24-2013-4294
END:VEVENT

END:VCALENDAR
