BEGIN:VCALENDAR
VERSION:2.0
PRODID:-//ChamberMaster//Event Calendar 2.0//EN
METHOD:PUBLISH
X-PUBLISHED-TTL:P3D
REFRESH-INTERVAL:P3D
CALSCALE:GREGORIAN
BEGIN:VEVENT
DTSTART:20150705T023000Z
DTEND:20150705T043000Z
X-MICROSOFT-CDO-ALLDAYEVENT:FALSE
SUMMARY:Fourth of July Celebration
DESCRIPTION:Fourth of July Celebration at the DiFiore Center Saturday July 4th starts: 8:30 PM Free refreshments and entertainment. Come join us for a old fashion celebration of America and enjoy the fireworks. The DiFiore Center is a 501c3 charitable organization and donations are always welcome.
X-ALT-DESC;FMTTYPE=text/html:Fourth of July Celebration at the DiFiore Center Saturday July 4th starts: 8:30 PM Free refreshments and entertainment. Come join us for a old fashion celebration of America and enjoy the fireworks. The DiFiore Center is a 501c3 charitable organization and donations are always welcome.
LOCATION:The DiFiore Center
UID:e.1117.6466
SEQUENCE:3
DTSTAMP:20260420T121106Z
URL:https://business.stgeorgechamber.com/events/details/fourth-of-july-celebration-07-04-2015-6466
END:VEVENT

END:VCALENDAR
