BEGIN:VCALENDAR
VERSION:2.0
PRODID:-//ChamberMaster//Event Calendar 2.0//EN
METHOD:PUBLISH
X-PUBLISHED-TTL:P3D
REFRESH-INTERVAL:P3D
CALSCALE:GREGORIAN
BEGIN:VEVENT
DTSTART:20140110T010000Z
DTEND:20140110T040000Z
X-MICROSOFT-CDO-ALLDAYEVENT:FALSE
SUMMARY:Foster Care Perspectives Forum
DESCRIPTION:Come learn about the different perspectives of the child welfare system.  Hear from a birth parent\, a youth in foster care\, a foster parent\, and a caseworker.  Hear the lessons they've learned and the challenges and rewards of being involved with the system. \n\n\n\nAdmission is free\, but must RSVP for dinner.
X-ALT-DESC;FMTTYPE=text/html:Come learn about the different perspectives of the child welfare system.&nbsp\; Hear from a birth parent\, a youth in foster care\, a foster parent\, and a caseworker.&nbsp\; Hear the lessons they&#39\;ve learned and the challenges and rewards of being involved with the system.&nbsp\;<br />\n<br />\nAdmission is free\, but must RSVP for dinner.
LOCATION:WA County School District Board Room 41 W Tabernacle
UID:e.1117.4949
SEQUENCE:3
DTSTAMP:20260421T154343Z
URL:https://business.stgeorgechamber.com/events/details/foster-care-perspectives-forum-01-09-2014-4949
END:VEVENT

END:VCALENDAR
