BEGIN:VCALENDAR
VERSION:2.0
PRODID:-//ChamberMaster//Event Calendar 2.0//EN
METHOD:PUBLISH
X-PUBLISHED-TTL:P3D
REFRESH-INTERVAL:P3D
CALSCALE:GREGORIAN
BEGIN:VEVENT
DTSTART:20160424T010000Z
DTEND:20160424T030000Z
X-MICROSOFT-CDO-ALLDAYEVENT:FALSE
SUMMARY:"Forever Plaid" at Brigham's Playhouse
DESCRIPTION:The stars have aligned and the astronomic anomalies allow for their return.  The Plaids are back for one last gig at Brigham's Playhouse.  A crash took them from life while on their way to fame and fortune.  Now this 1950's doo-wop group has one last chance to make their earthly dreams come true. Come see Sparky\, Smudge\, Jinx and Frankie with their tight harmonies\, moving melodies and hilarious antics.  Don't miss this stroll along memory lane as the Plaids remind us that love\, is indeed\, a many splendored thing.
X-ALT-DESC;FMTTYPE=text/html:The stars have aligned and the astronomic anomalies allow for their return. &nbsp\;The Plaids are back for one last gig at Brigham&#39\;s Playhouse. &nbsp\;A crash took them from life while on their way to fame and fortune. &nbsp\;Now this 1950&rsquo\;s doo-wop group has one last chance to make their earthly dreams come true. Come see Sparky\, Smudge\, Jinx and Frankie with their tight harmonies\, moving melodies and hilarious antics. &nbsp\;Don&#39\;t miss this stroll along memory lane as the Plaids remind us that love\, is indeed\, a many splendored thing.
LOCATION:Brigham's Playhouse 25 N. 300 W. Washington\, UT 84780. In the CottonTown Village across from the street from Riggatti's Pizza.
UID:e.1117.8521
SEQUENCE:3
DTSTAMP:20260419T201415Z
URL:https://business.stgeorgechamber.com/events/details/forever-plaid-at-brigham-s-playhouse-04-23-2016-8521
END:VEVENT

END:VCALENDAR
