BEGIN:VCALENDAR
VERSION:2.0
PRODID:-//ChamberMaster//Event Calendar 2.0//EN
METHOD:PUBLISH
X-PUBLISHED-TTL:P3D
REFRESH-INTERVAL:P3D
CALSCALE:GREGORIAN
BEGIN:VEVENT
DTSTART:20160417T020000Z
DTEND:20160417T034500Z
X-MICROSOFT-CDO-ALLDAYEVENT:FALSE
SUMMARY:FOREIGNER'S DOUBLE VISION LIVE IN CONCERT
DESCRIPTION:BUY TWO CONCERTS AND GET ONE FREE! BUY FOREIGNER?S DOUBLE VISION - APRIL 16\, and JOURNEY UNAUTHORIZED - APRIL 22\, and get STYX's ROCKIN? THE PARADISE\, APRIL 30 FREE! All three concerts are at Staheli Family Farm at 8PM! All three of these bands are the #1 Foreigner\, Journey and Styx tribute bands in the world! BUY FOREIGNER'S DOUBLE VISION & JOURNEY UNAUTHORIZED and get STYX ROCKIN? THE PARADISE FREE! To get this incredible offer go online to utahliveconcerts.com and click on tickets and scroll to the bottom of the page.
X-ALT-DESC;FMTTYPE=text/html:BUY TWO CONCERTS AND GET ONE FREE! BUY FOREIGNER?S DOUBLE VISION - APRIL 16\, and JOURNEY UNAUTHORIZED - APRIL 22\, and get STYX&#39\;s ROCKIN? THE PARADISE\, APRIL 30 FREE! All three concerts are at Staheli Family Farm at 8PM! All three of these bands are the #1 Foreigner\, Journey and Styx tribute bands in the world! BUY FOREIGNER&#39\;S DOUBLE VISION &amp\; JOURNEY UNAUTHORIZED and get STYX ROCKIN? THE PARADISE FREE! To get this incredible offer go online to utahliveconcerts.com and click on tickets and scroll to the bottom of the page.
LOCATION:Staheli Family Farm
UID:e.1117.8549
SEQUENCE:3
DTSTAMP:20260419T201435Z
URL:https://business.stgeorgechamber.com/events/details/foreigner-s-double-vision-live-in-concert-04-16-2016-8549
END:VEVENT

END:VCALENDAR
