BEGIN:VCALENDAR
VERSION:2.0
PRODID:-//ChamberMaster//Event Calendar 2.0//EN
METHOD:PUBLISH
X-PUBLISHED-TTL:P3D
REFRESH-INTERVAL:P3D
CALSCALE:GREGORIAN
BEGIN:VEVENT
DTSTART:20140903T230000Z
DTEND:20141106T010000Z
X-MICROSOFT-CDO-ALLDAYEVENT:FALSE
SUMMARY:FLAMENCO DANCE FOR CHILDREN
DESCRIPTION:Flamenco is an exciting and dynamic dance form from southern Spain featuring lyrical hand and arm movements and sharp percussive footwork. We will learn the correct body posture\, wrist and arm positions\, footwork\, hand clapping patterns\, and how to follow the music. Please bring supportive shoes with a chunky heel. Both boys & girls are welcome.
X-ALT-DESC;FMTTYPE=text/html:Flamenco is an exciting and dynamic dance form from southern Spain featuring lyrical hand and arm movements and sharp percussive footwork. We will learn the correct body posture\, wrist and arm positions\, footwork\, hand clapping patterns\, and how to follow the music. Please bring supportive shoes with a chunky heel. Both boys &amp\; girls are welcome.
LOCATION:The DiFiore Center
UID:e.1117.6085
SEQUENCE:3
DTSTAMP:20260421T012607Z
URL:https://business.stgeorgechamber.com/events/details/flamenco-dance-for-children-09-03-2014-6085
END:VEVENT

END:VCALENDAR
