BEGIN:VCALENDAR
VERSION:2.0
PRODID:-//ChamberMaster//Event Calendar 2.0//EN
METHOD:PUBLISH
X-PUBLISHED-TTL:P3D
REFRESH-INTERVAL:P3D
CALSCALE:GREGORIAN
BEGIN:VEVENT
DTSTART:20140615T013000Z
DTEND:20140615T030000Z
X-MICROSOFT-CDO-ALLDAYEVENT:FALSE
SUMMARY:Flag Retirement Ceremony and Military Tribute
DESCRIPTION:Congress has authorized that flags worn beyond repair are to be destroyed by fire in a dignified manner\, showing respect and reverence.  Any personal flags you have may be picked up by the Scouts.  Flags can also be dropped off at the St. George Lions Club/VFW Building\, the National Guard Armory\, or the Boy Scout Office in St. George prior to the ceremony.
X-ALT-DESC;FMTTYPE=text/html:Congress has authorized that flags worn beyond repair are to be destroyed by fire in a dignified manner\, showing respect and reverence. &nbsp\;Any personal flags you have may be picked up by the Scouts. &nbsp\;Flags can also be dropped off at the St. George Lions Club/VFW Building\, the National Guard Armory\, or the Boy Scout Office in St. George prior to the ceremony.
LOCATION:Historic Dixie Sunbowl
UID:e.1117.5297
SEQUENCE:3
DTSTAMP:20260423T085438Z
URL:https://business.stgeorgechamber.com/events/details/flag-retirement-ceremony-and-military-tribute-06-14-2014-5297
END:VEVENT

END:VCALENDAR
