BEGIN:VCALENDAR
VERSION:2.0
PRODID:-//ChamberMaster//Event Calendar 2.0//EN
METHOD:PUBLISH
X-PUBLISHED-TTL:P3D
REFRESH-INTERVAL:P3D
CALSCALE:GREGORIAN
BEGIN:VEVENT
DTSTART:20140405T140000Z
DTEND:20140405T200000Z
X-MICROSOFT-CDO-ALLDAYEVENT:FALSE
SUMMARY:Fishing Derby for Kids
DESCRIPTION:A hook\, line and sinker is all you need to have fun at the annual St. George Fishing Derby on Saturday\, April 5. The free Derby will be hosted at the Tawa Ponds from 8am-2pm. Children\, 12 & under\, are invited to the experience the chance to catch a big one at the Tawa Ponds. Fishing poles and bait will be available at no cost for children who do not own their own poles. Participants and spectators are encouraged to bring a cooler for caught fish and a chair for seating.\n\nThroughout the Derby\, the Utah Division of Wildlife Resources will be conducting brief fishing etiquette and donated prizes will be given out to participating children. The goal of the Derby sponsors is to ensure that all area children have the opportunity to experience the simple joy of fishing. While at the Derby\, parents can find out more information about a new youth fishing clinic starting on April 10 at the Skyline Ponds.\n\nThe Derby is co-sponsored by the Southern Utah Anglers\, Dixie Wildlife Federation\, Utah Division of Wildlife Resources\, Hurst's Hardware\, Sportsman's Warehouse\, SCI members and the City of St. George.
X-ALT-DESC;FMTTYPE=text/html:<p><span style="font-family:arial\;"><span style="font-size:14px\;">A hook\, line and sinker is all you need to have fun at the annual St. George Fishing Derby on Saturday\, April 5. The free Derby will be hosted at the Tawa Ponds from 8am-2pm. Children\, 12 &amp\; under\, are invited to the experience the chance to catch a big one at the Tawa Ponds. Fishing poles and bait will be available at no cost for children who do not own their own poles. Participants and spectators are encouraged to bring a cooler for caught fish and a chair for seating.<br />\nThroughout the Derby\, the Utah Division of Wildlife Resources will be conducting brief fishing etiquette and donated prizes will be given out to participating children. The goal of the Derby sponsors is to ensure that all area children have the opportunity to experience the simple joy of fishing. While at the Derby\, parents can find out more information about a new youth fishing clinic starting on April 10 at the Skyline Ponds.</span></span><br />\n<span style="font-size:14.0pt\;"><span style="font-family:arial\;"><span style="font-size:14px\;">The Derby is co-sponsored by the Southern Utah Anglers\, Dixie Wildlife Federation\, Utah Division of Wildlife Resources\, Hurst&rsquo\;s Hardware\, Sportsman&rsquo\;s Warehouse\, SCI members and the City of St. George.</span></span></span></p>\n
LOCATION:The Tawa Ponds are located at 2200 West Snow Canyon Parkway by the Canyons Softball Complex.
UID:e.1117.5131
SEQUENCE:3
DTSTAMP:20260421T112231Z
URL:https://business.stgeorgechamber.com/events/details/fishing-derby-for-kids-04-05-2014-5131
END:VEVENT

END:VCALENDAR
