BEGIN:VCALENDAR
VERSION:2.0
PRODID:-//ChamberMaster//Event Calendar 2.0//EN
METHOD:PUBLISH
X-PUBLISHED-TTL:P3D
REFRESH-INTERVAL:P3D
CALSCALE:GREGORIAN
BEGIN:VEVENT
DTSTART:20150327T170000Z
DTEND:20150327T200000Z
X-MICROSOFT-CDO-ALLDAYEVENT:FALSE
SUMMARY:Findlay Food Truck Friday and Charity Event
DESCRIPTION:Join Findlay Subaru as we present our "6th charity" or charity of choice\, Southwest Wildlife Foundation\, with a donation to conclude our Share the Love event on March 27th. The Southwest Wildlife Foundation is dedicated to wildlife rescue\, wildlife and environmental education. They will be bringing a Golden Eagle to the presentation. We will be broadcasting on Planet 94.1 from 11:00 am to 2:00 pm. Bring your friends and family and congratulate the Southwest Wildlife Foundation on their donation. We will see you there!
X-ALT-DESC;FMTTYPE=text/html:<span style="color: rgb(15\, 36\, 62)\; font-family: Arial\, sans-serif\; font-size: 13.3333330154419px\; line-height: normal\;">Join Findlay Subaru as we present our &quot\;6th charity&quot\; or charity of choice\, Southwest Wildlife Foundation\, with a donation to conclude our Share the Love event on&nbsp\;</span><span class="aBn" data-term="goog_36156253" style="border-bottom-width: 1px\; border-bottom-style: dashed\; border-bottom-color: rgb(204\, 204\, 204)\; position: relative\; top: -2px\; z-index: 0\; color: rgb(15\, 36\, 62)\; font-family: Arial\, sans-serif\; font-size: 13.3333330154419px\; line-height: normal\;" tabindex="0"><span class="aQJ" style="position: relative\; top: 2px\; z-index: -1\;">March 27th</span></span><span style="color: rgb(15\, 36\, 62)\; font-family: Arial\, sans-serif\; font-size: 13.3333330154419px\; line-height: normal\;">. The Southwest Wildlife Foundation is dedicated to wildlife rescue\, wildlife and environmental education. They will be bringing a Golden Eagle to the presentation. We will be broadcasting on Planet 94.1 from&nbsp\;</span><span class="aBn" data-term="goog_36156254" style="border-bottom-width: 1px\; border-bottom-style: dashed\; border-bottom-color: rgb(204\, 204\, 204)\; position: relative\; top: -2px\; z-index: 0\; color: rgb(15\, 36\, 62)\; font-family: Arial\, sans-serif\; font-size: 13.3333330154419px\; line-height: normal\;" tabindex="0"><span class="aQJ" style="position: relative\; top: 2px\; z-index: -1\;">11:00 am to 2:00 pm</span></span><span style="color: rgb(15\, 36\, 62)\; font-family: Arial\, sans-serif\; font-size: 13.3333330154419px\; line-height: normal\;">. Bring your friends and family and congratulate the Southwest Wildlife Foundation on their donation. We will see you there!</span>
LOCATION:1405 S. Sunland Drive St. George\, UT
UID:e.1117.6361
SEQUENCE:3
DTSTAMP:20260420T191202Z
URL:https://business.stgeorgechamber.com/events/details/findlay-food-truck-friday-and-charity-event-03-27-2015-6361
END:VEVENT

END:VCALENDAR
