BEGIN:VCALENDAR
VERSION:2.0
PRODID:-//ChamberMaster//Event Calendar 2.0//EN
METHOD:PUBLISH
X-PUBLISHED-TTL:P3D
REFRESH-INTERVAL:P3D
CALSCALE:GREGORIAN
BEGIN:VEVENT
DTSTART:20141031T210000Z
DTEND:20141101T000000Z
X-MICROSOFT-CDO-ALLDAYEVENT:FALSE
SUMMARY:Findlay Auto Trunk or Treat
DESCRIPTION:Happy Halloween! Come to the Findlay Automotive of Utah Trunk or Treat on October 31\, 2014 between 3:00 pm to 6:00 pm! Bring your kids for all kinds of fun\, including: a photo booth\, a live radio broadcast from 2:00 pm - 5:00 pm\, our Findlay HamStars\, Decorated Trunks\, and of course plenty of CANDY! Make sure to dress up\, because Canyon Media will be giving $100 for the best costume! Come to the SPOOKY side of the freeway for the Findlay Trunk or Treat!
X-ALT-DESC;FMTTYPE=text/html:Happy Halloween! Come to the Findlay Automotive of Utah Trunk or Treat on October 31\, 2014 between 3:00 pm to 6:00 pm! Bring your kids for all kinds of fun\, including: a photo booth\, a live radio broadcast from 2:00 pm - 5:00 pm\, our Findlay HamStars\, Decorated Trunks\, and of course plenty of CANDY! Make sure to dress up\, because Canyon Media will be giving $100 for the best costume! Come to the SPOOKY side of the freeway for the Findlay Trunk or Treat!
LOCATION:1405 S. Sunland Drive St. George
UID:e.1117.6176
SEQUENCE:3
DTSTAMP:20260421T025944Z
URL:https://business.stgeorgechamber.com/events/details/findlay-auto-trunk-or-treat-10-31-2014-6176
END:VEVENT

END:VCALENDAR
