BEGIN:VCALENDAR
VERSION:2.0
PRODID:-//ChamberMaster//Event Calendar 2.0//EN
METHOD:PUBLISH
X-PUBLISHED-TTL:P3D
REFRESH-INTERVAL:P3D
CALSCALE:GREGORIAN
BEGIN:VEVENT
DTSTART:20150913T010000Z
DTEND:20150913T033000Z
X-MICROSOFT-CDO-ALLDAYEVENT:FALSE
SUMMARY:Fiddler on the Roof at Brigham's Playhouse
DESCRIPTION:The fan favorite Fiddler on the Roof opens August 5th and runs through September 12th.
X-ALT-DESC;FMTTYPE=text/html:<span style="font-family:calibri"><span style="font-size:11.0pt">The fan favorite <em>Fiddler on the Roof </em>opens August 5<sup>th</sup> and runs through September 12<sup>th</sup><em>.</em>&nbsp\;</span></span>
LOCATION:Brighams Playhouse 25 North 300 West--Washington\, UT
UID:e.1117.7021
SEQUENCE:3
DTSTAMP:20260420T085218Z
URL:https://business.stgeorgechamber.com/events/details/fiddler-on-the-roof-at-brigham-s-playhouse-09-12-2015-7021
END:VEVENT

END:VCALENDAR
