BEGIN:VCALENDAR
VERSION:2.0
PRODID:-//ChamberMaster//Event Calendar 2.0//EN
METHOD:PUBLISH
X-PUBLISHED-TTL:P3D
REFRESH-INTERVAL:P3D
CALSCALE:GREGORIAN
BEGIN:VEVENT
DTSTART:20150425T140000Z
DTEND:20150425T170000Z
X-MICROSOFT-CDO-ALLDAYEVENT:FALSE
SUMMARY:Family Support Center 5th Annual Mini Golf Charity Event
DESCRIPTION:The Family Support Center will be hosting their 5th Annual Mini Golf Charity Event with FREE breakfast for participants!  Proudly sponsored by Cache Valley Bank\, this event will include random drawing prizes.  All proceeds will go to general operating expenses for The Family Support Center:  a non-profit agency in Washington County that provides crisis nursery\, respite care\, visitation exchanges\, and parenting classes to anyone in Washington County.
X-ALT-DESC;FMTTYPE=text/html:The Family Support Center will be hosting their 5th Annual Mini Golf Charity Event with FREE breakfast for participants! &nbsp\;Proudly sponsored by Cache Valley Bank\, this event will include random drawing prizes. &nbsp\;All proceeds will go to general operating expenses for The Family Support Center: &nbsp\;a non-profit agency in Washington County that provides crisis nursery\, respite care\, visitation exchanges\, and parenting classes to anyone in Washington County.
LOCATION:Fiesta Fun Center
UID:e.1117.6393
SEQUENCE:3
DTSTAMP:20260420T173306Z
URL:https://business.stgeorgechamber.com/events/details/family-support-center-5th-annual-mini-golf-charity-event-04-25-2015-6393
END:VEVENT

END:VCALENDAR
