BEGIN:VCALENDAR
VERSION:2.0
PRODID:-//ChamberMaster//Event Calendar 2.0//EN
METHOD:PUBLISH
X-PUBLISHED-TTL:P3D
REFRESH-INTERVAL:P3D
CALSCALE:GREGORIAN
BEGIN:VEVENT
DTSTART:20131109T190000Z
DTEND:20131109T220000Z
X-MICROSOFT-CDO-ALLDAYEVENT:FALSE
SUMMARY:Families Celebrating Adoption
DESCRIPTION:Anyone who has been touched by adoption invited to this free fun event at Vernon Worthen Park
X-ALT-DESC;FMTTYPE=text/html:Anyone who has been touched by adoption invited to this free fun event at Vernon Worthen Park
LOCATION:Vernon Worthen Park
UID:e.1117.4948
SEQUENCE:3
DTSTAMP:20260421T195832Z
URL:https://business.stgeorgechamber.com/events/details/families-celebrating-adoption-11-09-2013-4948
END:VEVENT

END:VCALENDAR
