BEGIN:VCALENDAR
VERSION:2.0
PRODID:-//ChamberMaster//Event Calendar 2.0//EN
METHOD:PUBLISH
X-PUBLISHED-TTL:P3D
REFRESH-INTERVAL:P3D
CALSCALE:GREGORIAN
BEGIN:VEVENT
DTSTART:20160402T170000Z
DTEND:20160402T190000Z
X-MICROSOFT-CDO-ALLDAYEVENT:FALSE
SUMMARY:Fabulous Freddy's Grand Opening
DESCRIPTION:Doc Popcorn and Dippin' Dots\, two snack franchises owned by the same parent company\, have co-branded locations popping up across the country. The next wave of openings for the two complementary snack brands will be in a partnership with the Fabulous Freddy's Car Wash locations across Las Vegas and Utah. The first of these store-within-a-store formats is now open at the Bluff Street location\, and is hosting its grand opening event on April 2\, 2016 with lots of free product to be given away.\n\nThe two snack retailers will further round out the already extensive selection of convenience items available to shoppers at the Fabulous Freddy's locations. Doc Popcorn's unique flavors\, popped fresh daily on-site and Dippin' Dots flash-frozen ice cream provides a special treat for any time of the year\, from kettle cooked popcorn and ice cream\, sundaes\, floats\, shakes and quakes.
X-ALT-DESC;FMTTYPE=text/html:Doc Popcorn and Dippin&rsquo\; Dots\, two snack franchises owned by the same parent company\, have co-branded locations popping up across the country. The next wave of openings for the two complementary snack brands will be in a partnership with the Fabulous Freddy&rsquo\;s Car Wash locations across Las Vegas and Utah. The first of these store-within-a-store formats is now open at the Bluff Street location\, and is hosting its grand opening event on April 2\, 2016 with lots of free product to be given away.<br />\nThe two snack retailers will further round out the already extensive selection of convenience items available to shoppers at the Fabulous Freddy&rsquo\;s locations. Doc Popcorn&rsquo\;s unique flavors\, popped fresh daily on-site and Dippin&rsquo\; Dots flash-frozen ice cream provides a special treat for any time of the year\, from kettle cooked popcorn and ice cream\, sundaes\, floats\, shakes and quakes.
LOCATION:Fabulous Freddy's Car Wash Bluff St. Location 806 N. Bluff Street St. George\, Utah 84770
UID:e.1117.8535
SEQUENCE:3
DTSTAMP:20260419T202042Z
URL:https://business.stgeorgechamber.com/events/details/fabulous-freddy-s-grand-opening-04-02-2016-8535
END:VEVENT

END:VCALENDAR
