BEGIN:VCALENDAR
VERSION:2.0
PRODID:-//ChamberMaster//Event Calendar 2.0//EN
METHOD:PUBLISH
X-PUBLISHED-TTL:P3D
REFRESH-INTERVAL:P3D
CALSCALE:GREGORIAN
BEGIN:VEVENT
DTSTART:20151003T170000Z
DTEND:20151030T000000Z
X-MICROSOFT-CDO-ALLDAYEVENT:FALSE
SUMMARY:Etched Jennifer Gubler Gallery Show
DESCRIPTION:Jennifer Gubler Artist statement Nature is my muse and Plein Air painting my passion. I paint the world around me hoping to capture those small perfect moments that make me grateful to be alive. I once owned a ceramic studio and for years I wondered how I could combine ceramic and watercolor\, and now simply painting directly onto tiles\, I've created tiny windows into that world of inspiration. Bio World travel and cultural experience are integral to the heart and content of Jennifer Gubler's award winning work. A native of Southern Utah\, she has a drive for exploration in both her work and her locale. She continually experiments with a variety of media and processes as she travels the globe. This odyssey has taken her as far as Europe and the orient and as near as her back yard. Internationally collected for her evocative landscapes\, her paintings transcend the two dimensional surface with layers of hatching\, color and heart. She is the recipient of numerous awards and accolades including Best in Show for her miniature mixed media tiles. Ms. Gubler is also an accomplished designer and illustrator with a bachelor of fine arts in illustration from southern Utah University. She lives and paints in St. George Utah where she is currently creating her next body of work.
X-ALT-DESC;FMTTYPE=text/html:Jennifer Gubler Artist statement Nature is my muse and Plein Air painting my passion. I paint the world around me hoping to capture those small perfect moments that make me grateful to be alive. I once owned a ceramic studio and for years I wondered how I could combine ceramic and watercolor\, and now simply painting directly onto tiles\, I&#39\;ve created tiny windows into that world of inspiration. Bio World travel and cultural experience are integral to the heart and content of Jennifer Gubler&#39\;s award winning work. A native of Southern Utah\, she has a drive for exploration in both her work and her locale. She continually experiments with a variety of media and processes as she travels the globe. This odyssey has taken her as far as Europe and the orient and as near as her back yard. Internationally collected for her evocative landscapes\, her paintings transcend the two dimensional surface with layers of hatching\, color and heart. She is the recipient of numerous awards and accolades including Best in Show for her miniature mixed media tiles. Ms. Gubler is also an accomplished designer and illustrator with a bachelor of fine arts in illustration from southern Utah University. She lives and paints in St. George Utah where she is currently creating her next body of work.
LOCATION:The DiFiore Center 307 North Main Street St George\, Utah 84770
UID:e.1117.7106
SEQUENCE:3
DTSTAMP:20260420T065222Z
URL:https://business.stgeorgechamber.com/events/details/etched-jennifer-gubler-gallery-show-10-03-2015-7106
END:VEVENT

END:VCALENDAR
