BEGIN:VCALENDAR
VERSION:2.0
PRODID:-//ChamberMaster//Event Calendar 2.0//EN
METHOD:PUBLISH
X-PUBLISHED-TTL:P3D
REFRESH-INTERVAL:P3D
CALSCALE:GREGORIAN
BEGIN:VEVENT
DTSTART:20140511T203000Z
DTEND:20140511T230000Z
X-MICROSOFT-CDO-ALLDAYEVENT:FALSE
SUMMARY:Equality Utah Movie Screening
DESCRIPTION:Join Equality Utah and Grace Episcopal Church as we present a special screening of the movie Love Free or Die\, a 2013 Sundance Film Festival Special Jury Prize Winner.  This feature-length documentary is based upon Reverend V. Gene Robinson\, IX Bishop of New Hampshire.
X-ALT-DESC;FMTTYPE=text/html:Join Equality Utah and Grace Episcopal Church as we present a special screening of the movie Love Free or Die\, a 2013 Sundance Film Festival Special Jury Prize Winner. &nbsp\;This feature-length documentary is based upon Reverend V. Gene Robinson\, IX Bishop of New Hampshire. &nbsp\;
LOCATION:Grace Episcopal Church 1072 E. 900 South St. George\, UT 84790
UID:e.1117.5101
SEQUENCE:3
DTSTAMP:20260421T112237Z
URL:https://business.stgeorgechamber.com/events/details/equality-utah-movie-screening-05-11-2014-5101
END:VEVENT

END:VCALENDAR
