BEGIN:VCALENDAR
VERSION:2.0
PRODID:-//ChamberMaster//Event Calendar 2.0//EN
METHOD:PUBLISH
X-PUBLISHED-TTL:P3D
REFRESH-INTERVAL:P3D
CALSCALE:GREGORIAN
BEGIN:VEVENT
DTSTART:20140226T170000Z
DTEND:20140226T210000Z
X-MICROSOFT-CDO-ALLDAYEVENT:FALSE
SUMMARY:Employment Fair
DESCRIPTION:The Dixie State University Career Center will host its annual Employment Fair on Wednesday\, February 26.  This year's fair is open to all students and community members and will feature nearly 40 registered employers seeking to hire four-year graduates and students with associate degrees and certificates. \n\n\n\nDSU Director of Career Services Kathy Kinney noted that this year's fair is full of employers who are looking to hire DSU graduates for full-time career positions\, along with other employers who will offer part-time and seasonal jobs and internships. She noted that students and other attendees looking for career advice and information should come prepared to engage potential employers\, ask questions and discover what each company at the fair has to offer.\n\n\n\n"The biggest value a student can get from our fair is the opportunity to make a personal connection with the employers\, which is not possible when submitting a resume online\," Kinney said. "The fair also offers the chance to introduce yourself to multiple potential employers in one place."\n\n\n\nFair attendees can also expect prospective employers handing out various promotional items and materials\, along with a free lunch as pizza will be served throughout the event. In addition\, this year's event will feature on-the-spot resume' reviews provided by representatives from LDS Employment Services\, who will provide advice to students on how to better their marketability.\n\n\n\nAmong the many employers that will attend this year's DSU Employment Fair include Intermountain Healthcare\; Best Buy\; Boy Scouts of America\; Northwestern Mutual\; Wal-Mart\; Allconnect\; Wells Dairy\; and Zions Bank\, among many others. In addition\, branches of the United States Military and other government agencies\, including the Bureau of Land Management and the National Parks Service will be on hand with employment information\, as will representatives from Weber State University with information on graduate programs.\n\n \n\nIn conjunction with the Employment Fair\, DSU will also host a special Summer Sales Fair on Thursday\, Feb. 27\, at the Gardner Center Ballroom from 10 a.m.-to-2 p.m. Sales representatives from a number of companies\, including pest control services\, satellite television\, home security systems\, among others\, will be on hand to provide information on summer job opportunities.
X-ALT-DESC;FMTTYPE=text/html:<p><span style="font-size:14px\;"><span style="font-family:arial\;"><span style="color:black\;">The Dixie State University Career Center will host its annual Employment Fair on Wednesday\, February 26. &nbsp\;This year&rsquo\;s fair is open to all students and community members and will feature nearly 40 registered employers seeking to hire four-year graduates and students with associate degrees and certificates. </span><br />\n<br />\n<span style="color:black\;">DSU Director of Career Services </span><span style="color:black\;">Kathy Kinney noted that this year&rsquo\;s fair is full of employers who are looking to hire DSU graduates for full-time career positions\, along with other employers who will offer part-time and seasonal jobs and internships. She noted that students and other attendees looking for career advice and information should come prepared to engage potential employers\, ask questions and discover what each company at the fair has to offer.<br />\n<br />\n&ldquo\;The biggest value a student can get from our fair is the opportunity to make a personal connection with the employers\, which is not possible when submitting a resume online\,&rdquo\; Kinney said. &ldquo\;The fair also offers the chance to introduce yourself to multiple potential employers in one place.&rdquo\;<br />\n<br />\nFair attendees can also expect prospective employers handing out various promotional items and materials\, along with a free lunch as pizza will be served throughout the event. In addition\, this year&rsquo\;s event will feature on-the-spot resume&rsquo\; reviews provided by representatives from LDS Employment Services\, who will provide advice to students on how to better their marketability.<br />\n<br />\nAmong the many employers that will attend this year&rsquo\;s DSU Employment Fair include Intermountain Healthcare\; Best Buy\; Boy Scouts of America\; Northwestern Mutual\; Wal-Mart\; Allconnect\; Wells Dairy\; and Zions Bank\, among many others. In addition\, branches of the United States Military and other government agencies\, including the Bureau of Land Management and the National Parks Service will be on hand with employment information\, as will representatives from Weber State University with information on graduate programs.</span><br />\n&nbsp\;<br />\n<span style="color:black\;">In conjunction with the Employment Fair\, DSU will also host a special Summer Sales Fair on Thursday\, Feb. 27\, at the Gardner Center Ballroom from 10 a.m.-to-2 p.m. Sales representatives from a number of companies\, including pest control services\, satellite television\, home security systems\, among others\, will be on hand to provide information on summer job opportunities.</span></span></span></p>\n
LOCATION:DSU Gardner Center Ballroom
UID:e.1117.5081
SEQUENCE:3
DTSTAMP:20260421T154043Z
URL:https://business.stgeorgechamber.com/events/details/employment-fair-02-26-2014-5081
END:VEVENT

END:VCALENDAR
