BEGIN:VCALENDAR
VERSION:2.0
PRODID:-//ChamberMaster//Event Calendar 2.0//EN
METHOD:PUBLISH
X-PUBLISHED-TTL:P3D
REFRESH-INTERVAL:P3D
CALSCALE:GREGORIAN
BEGIN:VEVENT
DTSTART:20160107T010000Z
DTEND:20160107T030000Z
X-MICROSOFT-CDO-ALLDAYEVENT:FALSE
SUMMARY:Educational Travel Seminar
DESCRIPTION:Have you ever wanted to visit Tahiti\, the Cook Islands or Fiji?\n\nIf so\, you won't want to miss an educational seminar sponsored by Paul Gauguin Cruises and The Travel Connection.   Wednesday\, January 6th 6:00 p.m. at the Belltower Courtyard.  Call 628-3636 to RSVP.
X-ALT-DESC;FMTTYPE=text/html:<span style="font-size:14px\;"><span style="font-family:arial\;">Have you ever wanted to visit Tahiti\, the Cook Islands or Fiji?<br />\nIf so\, you won&rsquo\;t want to miss an educational seminar sponsored by Paul Gauguin Cruises and The Travel Connection.&nbsp\;&nbsp\; Wednesday\, January 6<sup>th</sup> 6:00 p.m. at the Belltower Courtyard.&nbsp\; Call 628-3636 to RSVP.</span></span>
LOCATION:
UID:e.1117.7391
SEQUENCE:3
DTSTAMP:20260420T012741Z
URL:https://business.stgeorgechamber.com/events/details/educational-travel-seminar-01-06-2016-7391
END:VEVENT

END:VCALENDAR
