BEGIN:VCALENDAR
VERSION:2.0
PRODID:-//ChamberMaster//Event Calendar 2.0//EN
METHOD:PUBLISH
X-PUBLISHED-TTL:P3D
REFRESH-INTERVAL:P3D
CALSCALE:GREGORIAN
BEGIN:VEVENT
DTSTART:20151010T150000Z
DTEND:20151010T190000Z
X-MICROSOFT-CDO-ALLDAYEVENT:FALSE
SUMMARY:Educational Homeowner and Condominium Association Forum
DESCRIPTION:Education and answers on homeowner and condo association hot topics from local HOA attorneys\, in order to help community members get their questions answered. Event: Annual St. George HOA Forum Title: Tending To Your HOA and Helping Your Community Prosper Topics Include: Ballot Blunders: Nonprofit Act Requirements Association Records: What to Keep and What to Toss Financial Problems: Money is the Root... Enforcement: Federal Regulations Architectural Control and Design Update on Security Issues: Jeopardy-style Presentation! Panel Q&A Aside from the presented topics and Q & A Panel\, we will also leave plenty of question and answer throughout the event!
X-ALT-DESC;FMTTYPE=text/html:Education and answers on homeowner and condo association hot topics from local HOA attorneys\, in order to help community members get their questions answered. Event: Annual St. George HOA Forum Title: Tending To Your HOA and Helping Your Community Prosper Topics Include: Ballot Blunders: Nonprofit Act Requirements Association Records: What to Keep and What to Toss Financial Problems: Money is the Root... Enforcement: Federal Regulations Architectural Control and Design Update on Security Issues: Jeopardy-style Presentation! Panel Q&amp\;A Aside from the presented topics and Q &amp\; A Panel\, we will also leave plenty of question and answer throughout the event!
LOCATION:St. George Courtyard by Marriott (behind Olive Garden) 185 South 1470 East St. George\, UT 84790
UID:e.1117.7232
SEQUENCE:3
DTSTAMP:20260420T065138Z
URL:https://business.stgeorgechamber.com/events/details/educational-homeowner-and-condominium-association-forum-10-10-2015-7232
END:VEVENT

END:VCALENDAR
