BEGIN:VCALENDAR
VERSION:2.0
PRODID:-//ChamberMaster//Event Calendar 2.0//EN
METHOD:PUBLISH
X-PUBLISHED-TTL:P3D
REFRESH-INTERVAL:P3D
CALSCALE:GREGORIAN
BEGIN:VEVENT
DTSTART:20160327T150000Z
DTEND:20160327T200000Z
X-MICROSOFT-CDO-ALLDAYEVENT:FALSE
SUMMARY:Easter Sunday Champagne Brunch
DESCRIPTION:Easter Sunday Champagne Brunch featuring prime rib and crab legs and all the traditional Easter fare!
X-ALT-DESC;FMTTYPE=text/html:Easter Sunday Champagne Brunch featuring prime rib and crab legs and all the traditional Easter fare!
LOCATION:Town Square Eureka Casino Mesquite\, NV
UID:e.1117.8477
SEQUENCE:3
DTSTAMP:20260419T215555Z
URL:https://business.stgeorgechamber.com/events/details/easter-sunday-champagne-brunch-03-27-2016-8477
END:VEVENT

END:VCALENDAR
