BEGIN:VCALENDAR
VERSION:2.0
PRODID:-//ChamberMaster//Event Calendar 2.0//EN
METHOD:PUBLISH
X-PUBLISHED-TTL:P3D
REFRESH-INTERVAL:P3D
CALSCALE:GREGORIAN
BEGIN:VEVENT
DTSTART:20130424T170000Z
DTEND:20130424T190000Z
X-MICROSOFT-CDO-ALLDAYEVENT:FALSE
SUMMARY:During Hours Lunch at Simmons Media
DESCRIPTION:Join us for free lunch and networking from 11am-1pm provided by Simmons Media!\n\nThere will be a drawing for free Lagoon passes\, Dixie Direct cards\, t-shirts\, and more!
X-ALT-DESC;FMTTYPE=text/html:<span style="font-size:14px\;">Join us for free lunch and networking from 11am-1pm provided by Simmons Media!<br />\nThere will be a drawing for free Lagoon passes\, Dixie Direct cards\, t-shirts\, and more! &nbsp\;</span>
LOCATION:Simmons Media 216 W. St. George Blvd. Suite 101 St. George
UID:e.1117.2922
SEQUENCE:3
DTSTAMP:20260422T061551Z
URL:https://business.stgeorgechamber.com/events/details/during-hours-lunch-at-simmons-media-04-24-2013-2922
END:VEVENT

END:VCALENDAR
