BEGIN:VCALENDAR
VERSION:2.0
PRODID:-//ChamberMaster//Event Calendar 2.0//EN
METHOD:PUBLISH
X-PUBLISHED-TTL:P3D
REFRESH-INTERVAL:P3D
CALSCALE:GREGORIAN
BEGIN:VEVENT
DTSTART:20130626T170000Z
DTEND:20130626T190000Z
X-MICROSOFT-CDO-ALLDAYEVENT:FALSE
SUMMARY:During Hours Lunch at Laser Mania
DESCRIPTION:Join us for networking and lunch provided by Laser Mania and Platinum Mortgage!\n\n\n\nLaser Mania Family Fun Center has proudly served the Southern Utah community for over 13 years. With many different activities to enjoy\, including laser tag\, blacklight miniature golf\, bumper cars\, 4D Movie Ride\, and arcade games\, it's the perfect place for company parties\, staff incentives\, or just to blow off some steam from the daily grind. There's nothing quite like zapping your boss in the laser tag arena\, closing a business deal on the miniature golf course\, or seeing your staff drive like crazy on the bumper cars. \n\n \n\nIf you haven't been in for a while\, you may be surprised to see all the improvements made in the last few years. Make sure you check out the 4D Movie Ride at the Chamber During Hours Luncheon. It's on par with motion rides found in major theme parks. The other attractions will also be complimentary for chamber members during the luncheon. The catering will be co-sponsored by Platinum Mortgage and provided by Port of Subs. Come take a break and have a great time!
X-ALT-DESC;FMTTYPE=text/html:<span style="font-size:14px\;"><span style="font-family: arial\;">Join us for networking and lunch provided by Laser Mania and Platinum Mortgage!<br />\n<br />\nLaser Mania Family Fun Center has proudly served the Southern Utah community for over 13 years. With many different activities to enjoy\, including laser tag\, blacklight miniature golf\, bumper cars\, 4D Movie Ride\, and arcade games\, it&#39\;s the perfect place for company parties\, staff incentives\, or just to blow off some steam from the daily grind. There&#39\;s nothing quite like zapping your boss in the laser tag arena\, closing a business deal on the miniature golf course\, or seeing your staff drive like crazy on the bumper cars.&nbsp\;<br />\n&nbsp\;<br />\nIf you haven&#39\;t been in for a while\, you may be surprised to see all the improvements made in the last few years.&nbsp\;Make sure you check out the 4D Movie Ride at the Chamber During Hours Luncheon. It&#39\;s on par with motion rides found in major theme parks. The other attractions will also be complimentary for chamber members during the luncheon. The catering will be co-sponsored by Platinum Mortgage and provided by Port of Subs. Come take a break and have a great time!</span></span><br />\n
LOCATION:Laser Mania 67 E. St. George Blvd. #10
UID:e.1117.3870
SEQUENCE:3
DTSTAMP:20260422T023703Z
URL:https://business.stgeorgechamber.com/events/details/during-hours-lunch-at-laser-mania-06-26-2013-3870
END:VEVENT

END:VCALENDAR
