BEGIN:VCALENDAR
VERSION:2.0
PRODID:-//ChamberMaster//Event Calendar 2.0//EN
METHOD:PUBLISH
X-PUBLISHED-TTL:P3D
REFRESH-INTERVAL:P3D
CALSCALE:GREGORIAN
BEGIN:VEVENT
DTSTART:20131023T170000Z
DTEND:20131023T190000Z
X-MICROSOFT-CDO-ALLDAYEVENT:FALSE
SUMMARY:During Hours Lunch at Extreme Mattress Outlet
DESCRIPTION:Join us for free lunch and networking at Extreme Mattress Outlet from 11am-1pm.\n\n	\n\n	Extreme Mattress Outlet is here to help you choose the right mattress. You will spend significantly more time on your mattress than any other piece of furniture you buy. AND REMEMBER\, "SLEEP MATTERS". They want to simplify your shopping experience and make sure you get the mattress that is right for you.  They carry name brand furniture and mattresses from well known brands such as Sealy\, Simmons\, Serta\, Stearns & Foster and many more at up to 80% off retail prices.  For your convenience\, they offer local delivery in the St. George.
X-ALT-DESC;FMTTYPE=text/html:<p>\n	<span style="font-size:14px\;"><span style="font-family:verdana\;">Join us for free lunch and networking at Extreme Mattress Outlet from 11am-1pm.<br />\n	<br />\n	Extreme Mattress Outlet is here to help you choose the right mattress. You will spend significantly more time on your mattress than any other piece of furniture you buy. AND REMEMBER\, &quot\;SLEEP MATTERS&quot\;. They want to simplify your shopping experience and make sure you get the mattress that is right for you.&nbsp\; They carry name brand furniture and mattresses from well known brands such as Sealy\, Simmons\, Serta\, Stearns &amp\; Foster and many more at up to 80% off retail prices.&nbsp\; For your convenience\, they offer local delivery in the St. George.</span></span></p>\n
LOCATION:Extreme Mattress Outlet 2051 E. Red Hills Parkway
UID:e.1117.4300
SEQUENCE:3
DTSTAMP:20260421T200400Z
URL:https://business.stgeorgechamber.com/events/details/during-hours-lunch-at-extreme-mattress-outlet-10-23-2013-4300
END:VEVENT

END:VCALENDAR
