BEGIN:VCALENDAR
VERSION:2.0
PRODID:-//ChamberMaster//Event Calendar 2.0//EN
METHOD:PUBLISH
X-PUBLISHED-TTL:P3D
REFRESH-INTERVAL:P3D
CALSCALE:GREGORIAN
BEGIN:VEVENT
DTSTART:20130828T170000Z
DTEND:20130828T190000Z
X-MICROSOFT-CDO-ALLDAYEVENT:FALSE
SUMMARY:During Hours Lunch at Dixie State University Eccles Fine Arts Center
DESCRIPTION:The DSU Cultural Arts Department is thrilled to host the St. George Chamber members on Wednesday\, August 28.  Lunch will be served throughout the event and you will have the opportunity to mingle and learn more about what's coming up this school year in the world of fine arts and performance at Dixie State. Being only 6 days away from DOCUTAH you'll have a chance to pick up a festival guide and watch a few festival trailers. Other surprises await you so come and see what the DSU music and drama department have in store for you.
X-ALT-DESC;FMTTYPE=text/html:<span style="font-size:14px\;"><span style="font-family:arial\;">The DSU Cultural Arts Department is thrilled to host the St. George Chamber members on Wednesday\, August 28. &nbsp\;Lunch will be served throughout the event and you will have the opportunity to mingle and learn more about what&#39\;s coming up this school year in the world of fine arts and performance at Dixie State. Being only 6 days away from DOCUTAH you&#39\;ll have a chance to pick up a festival guide and watch a few festival trailers. Other surprises await you so come and see what the DSU music and drama department have in store for you.</span></span><br />\n
LOCATION:Delores Dore Eccles Fine Arts Center Dixie State University
UID:e.1117.4255
SEQUENCE:3
DTSTAMP:20260422T011259Z
URL:https://business.stgeorgechamber.com/events/details/during-hours-lunch-at-dixie-state-university-eccles-fine-arts-center-08-28-2013-4255
END:VEVENT

END:VCALENDAR
