BEGIN:VCALENDAR
VERSION:2.0
PRODID:-//ChamberMaster//Event Calendar 2.0//EN
METHOD:PUBLISH
X-PUBLISHED-TTL:P3D
REFRESH-INTERVAL:P3D
CALSCALE:GREGORIAN
BEGIN:VEVENT
DTSTART:20130925T170000Z
DTEND:20130925T190000Z
X-MICROSOFT-CDO-ALLDAYEVENT:FALSE
SUMMARY:During Hours Lunch at Dixie Applied Technology College
DESCRIPTION:Dixie Applied Technology College (DXATC) is located in the Tonaquint area of sunny St. George.   DXATC is one of eight regional colleges that comprise the Utah College of Applied Technology.  DXATC is the premier college with the charge to provide relevant skill and competency based training to prepare students for good jobs.   DXATC currently offers 6 COE accredited certificate programs in: Medical Assisting\, Pharmacy Technician\, Office Management\, Drafting and Design\, Manufacturing Operations\, and Diesel Technology.   They also offer many short term industry specific courses\, which can be found in the local Community Education Catalogue and the DXATC.edu website.  DXATC is committed to its vision\, mission and guiding principles to be forward thinking\, future focused and job ready.  DXTAC welcomes you to come on by and see the great training opportunities right here in St. George!\n\nLunch provided by Durango's.
X-ALT-DESC;FMTTYPE=text/html:Dixie Applied Technology College (DXATC) is located in the Tonaquint area of sunny St. George. &nbsp\;&nbsp\;DXATC is one of eight regional colleges that comprise the Utah College of Applied Technology.&nbsp\; DXATC is the premier college with the charge to provide relevant skill and competency based training to prepare students for good jobs.&nbsp\;&nbsp\; DXATC currently offers 6 COE accredited certificate programs in: Medical Assisting\, Pharmacy Technician\, Office Management\, Drafting and Design\, Manufacturing Operations\, and Diesel Technology.&nbsp\;&nbsp\; They also offer many short term industry specific courses\, which can be found in the local Community Education Catalogue and the DXATC.edu website.&nbsp\; DXATC is committed to its vision\, mission and guiding principles to be forward thinking\, future focused and job ready.&nbsp\; DXTAC welcomes you to come on by and see the great training opportunities right here in St. George!<br />\nLunch provided by Durango&#39\;s. &nbsp\;
LOCATION:Dixie Applied Technology College 1506 S. Silicon Way 2C St. George\, Utah
UID:e.1117.4291
SEQUENCE:3
DTSTAMP:20260421T213258Z
URL:https://business.stgeorgechamber.com/events/details/during-hours-lunch-at-dixie-applied-technology-college-09-25-2013-4291
END:VEVENT

END:VCALENDAR
