BEGIN:VCALENDAR
VERSION:2.0
PRODID:-//ChamberMaster//Event Calendar 2.0//EN
METHOD:PUBLISH
X-PUBLISHED-TTL:P3D
REFRESH-INTERVAL:P3D
CALSCALE:GREGORIAN
BEGIN:VEVENT
DTSTART:20130522T170000Z
DTEND:20130522T190000Z
X-MICROSOFT-CDO-ALLDAYEVENT:FALSE
SUMMARY:During Hours Lunch at Camping World of St. George
DESCRIPTION:Join us for free lunch and networking from 11am-1pm provided by Camping World of St. George!\n\n\n\nAs the nation's largest retailer of RV supplies\, accessories\, services and new and used RVs\, Camping World is committed to making your total RV experience better. They want to make camping more affordable for every family\, on any budget. Working with their industry suppliers and partners to add more value to your camping dollar\, they offer over 8\,000 top-quality products and accessories that meet tough standards for value and reliability\, easy access to well-maintained\, late model rental RVs at convenient destination locations across the continental U.S. and provide warranty repairs\, routine maintenance\, collision repair and remodeling services.
X-ALT-DESC;FMTTYPE=text/html:<span style="font-size:14px\;">Join us for free lunch and networking from 11am-1pm provided by Camping World of St. George!</span><br />\n<br />\nAs the nation&#39\;s largest retailer of RV supplies\, accessories\, services and new and used RVs\, Camping World is committed to making your total RV experience better. They want to make camping more affordable for every family\, on any budget. Working with their industry suppliers and partners to add more value to your camping dollar\, they offer over 8\,000 top-quality products and accessories that meet tough standards for value and reliability\, easy access to well-maintained\, late model rental RVs at convenient destination locations across the continental U.S. and provide warranty repairs\, routine maintenance\, collision repair and remodeling services.
LOCATION:Camping World 1500 S. Hilton Drive St. George
UID:e.1117.2944
SEQUENCE:3
DTSTAMP:20260422T041916Z
URL:https://business.stgeorgechamber.com/events/details/during-hours-lunch-at-camping-world-of-st-george-05-22-2013-2944
END:VEVENT

END:VCALENDAR
