BEGIN:VCALENDAR
VERSION:2.0
PRODID:-//ChamberMaster//Event Calendar 2.0//EN
METHOD:PUBLISH
X-PUBLISHED-TTL:P3D
REFRESH-INTERVAL:P3D
CALSCALE:GREGORIAN
BEGIN:VEVENT
DTSTART:20130731T170000Z
DTEND:20130731T190000Z
X-MICROSOFT-CDO-ALLDAYEVENT:FALSE
SUMMARY:During Hours Lunch at Buca di Beppo
DESCRIPTION:Join us for networking and lunch!
X-ALT-DESC;FMTTYPE=text/html:Join us for networking and lunch!&nbsp\;&nbsp\;&nbsp\;&nbsp\;
LOCATION:Buca di Beppo 1812 E. Red Cliffs Drive St. George
UID:e.1117.4185
SEQUENCE:3
DTSTAMP:20260422T023518Z
URL:https://business.stgeorgechamber.com/events/details/during-hours-lunch-at-buca-di-beppo-07-31-2013-4185
END:VEVENT

END:VCALENDAR
