BEGIN:VCALENDAR
VERSION:2.0
PRODID:-//ChamberMaster//Event Calendar 2.0//EN
METHOD:PUBLISH
X-PUBLISHED-TTL:P3D
REFRESH-INTERVAL:P3D
CALSCALE:GREGORIAN
BEGIN:VEVENT
DTSTART:20150129T180000Z
DTEND:20150129T190000Z
X-MICROSOFT-CDO-ALLDAYEVENT:FALSE
SUMMARY:DSU Women's Resource Center Success Forum
DESCRIPTION:The Dixie State University Women's Resource Center will host a special one-hour forum entitled "Success Defined\," presented by Vicki R. Wilson\, Human Resources Director with Intermountain Healthcare's Southwest Region on Thursday\, January 29.\n\n\n\nWilson's presentation will discuss what it means to be truly successful in one's career or life\, and what differentiates those who achieve success and those who fail to realize their dreams. Wilson\, who served on Dixie State's Board of Trustees from 2001-09\, has worked in the human resources field for over 30 years\, including the last 23 years with Intermountain Healthcare. She earned a Bachelor's degree in Communication at the University of Utah\, where she earned Magna Cum Laude honors\, and later obtained an MBA with an emphasis in Health Administration from the University of Colorado.
X-ALT-DESC;FMTTYPE=text/html:<span style="font-size:14px\;"><span style="font-family:arial\;"><span style="color:black\;">The Dixie State University Women&#39\;s Resource Center will host a special one-hour forum entitled &ldquo\;Success Defined\,&rdquo\; presented by Vicki R. Wilson\, Human Resources Director with Intermountain Healthcare&rsquo\;s Southwest Region on Thursday\, January 29.<br />\n<br />\nWilson&rsquo\;s presentation will discuss what it means to be truly successful in one&rsquo\;s career or life\, and what differentiates those who achieve success and those who fail to realize their dreams. Wilson\, who served on Dixie State&rsquo\;s Board of Trustees from 2001-09\, has worked in the human resources field for over 30 years\, including the last 23 years with Intermountain Healthcare. She earned a Bachelor&rsquo\;s degree in Communication at the University of Utah\, where she earned Magna Cum Laude honors\, and later obtained an MBA with an emphasis in Health Administration from the University of Colorado. </span></span></span>
LOCATION:Conference Room of the DSU Gardner Student Center.
UID:e.1117.6274
SEQUENCE:3
DTSTAMP:20260420T234129Z
URL:https://business.stgeorgechamber.com/events/details/dsu-women-s-resource-center-success-forum-01-29-2015-6274
END:VEVENT

END:VCALENDAR
