BEGIN:VCALENDAR
VERSION:2.0
PRODID:-//ChamberMaster//Event Calendar 2.0//EN
METHOD:PUBLISH
X-PUBLISHED-TTL:P3D
REFRESH-INTERVAL:P3D
CALSCALE:GREGORIAN
BEGIN:VEVENT
DTSTART:20130402T230000Z
DTEND:20130403T010000Z
X-MICROSOFT-CDO-ALLDAYEVENT:FALSE
SUMMARY:DSU Visiting Artist Lecture Series
DESCRIPTION:Dixie State University\, in partnership with DSU's Library and Sears Art Museum Gallery\, the St. George Art Museum and the City of St. George\, will host its spring semester Visiting Artist Lecture Series event on Tuesday\, April 2nd\, featuring a presentation by local professional photographers Dave Becker and Nick Adams. \n\nThe Visiting Artist Lecture Series\, which is held each semester\, was created to benefit both members of the community and students studying art at DSU. Becker and Adams will spotlight their craft\, inspiration\, and the business side of art. The tandem will also facilitate a Q&A session at the end of their presentation.\n\n\n\nBecker primarily works with corporate and governments clients after a long international career in luxury retail. His work highlights a company's products and services through the photography medium. Becker's clients have included clients in the aerospace\, lifestyle\, hospitality\, architecture and health care industries.\n\n\n\nAdams is internationally recognized wedding and portrait photography are not only unique\, beautiful\, and creative\; they are masterfully crafted and have won many awards. He and his partner Signe have a style of photography that is a "fearless blend of classic style and modern rebellion."
X-ALT-DESC;FMTTYPE=text/html:<span style="font-size: 12pt\;"><span style="font-family: times new roman\,serif\;">Dixie State University\, in partnership with DSU&rsquo\;s Library and Sears Art Museum Gallery\, the St. George Art Museum and the City of St. George\, will host its spring semester Visiting Artist Lecture Series event on Tuesday\, April 2nd\, featuring a presentation by local professional photographers Dave Becker and Nick Adams.&nbsp\;<br />\nThe Visiting Artist Lecture Series\, which is held each semester\, was created to benefit both members of the community and students studying art at DSU. Becker and Adams will spotlight their craft\, inspiration\, and the business side of art. The tandem will also facilitate a Q&amp\;A session at the end of their presentation.<br />\n<br />\nBecker primarily works with corporate and governments clients after a long international career in luxury retail. His work highlights a company&rsquo\;s products and services through the photography medium. Becker&rsquo\;s clients have included clients in the aerospace\, lifestyle\, hospitality\, architecture and health care industries.<br />\n<br />\nAdams is internationally recognized wedding and portrait photography are not only unique\, beautiful\, and creative\; they are masterfully crafted and have won many awards. He and his partner Signe have a style of photography that is a &ldquo\;fearless blend of classic style and modern rebellion.&rdquo\;</span></span>
LOCATION:DSC North Plaza Art Building 55 South 900 East
UID:e.1117.2914
SEQUENCE:3
DTSTAMP:20260422T073452Z
URL:https://business.stgeorgechamber.com/events/details/dsu-visiting-artist-lecture-series-04-02-2013-2914
END:VEVENT

END:VCALENDAR
