BEGIN:VCALENDAR
VERSION:2.0
PRODID:-//ChamberMaster//Event Calendar 2.0//EN
METHOD:PUBLISH
X-PUBLISHED-TTL:P3D
REFRESH-INTERVAL:P3D
CALSCALE:GREGORIAN
BEGIN:VEVENT
DTSTART:20130420T013000Z
DTEND:20130420T030000Z
X-MICROSOFT-CDO-ALLDAYEVENT:FALSE
SUMMARY:DSU Symphony Band Annual Spring Concert
DESCRIPTION:The Dixie State University Symphony Band will take the stage for the final time this 2012-13 academic year in presenting its program entitled "Tempered Steel".\n\n	\n\n	The DSU Symphony Band is under the direction of longtime conductor Gary Caldwell\, who is in his 34th-year as director of bands at DSU\, and will be joined on stage by guest conductor and DSU music faculty member Ms. Rhonda Rhodes. "Tempered Steel" will fill concert goers with hope and inspiration with eight riveting compositions\, beginning with Ralph Vaughan Williams' three-movement folk composition "English Folk Song Suite\," followed by a performance of "An American Elegy\," which was composed in memory of those who lost their lives and pay tribute to those who survived the tragedy at Columbine High School on April 20\, 1999.\n\n	\n\n	The band will also perform the Robert Jager composition "Sinfonia Nobilissima\," along with Jerry Bilik's "American Civil War Fantasy\," which features intermingled main themes of many riveting ballads and songs inspired by both the North and the South. The ensemble will also play the show's title number\, "Tempered Steel\," which celebrates triumph over unavoidable hardships and obstacles through through growth and resiliency in becoming "tempered."\n\n	\n\n	In addition\, the band will play "Funiculi\, Funicula\," composed by Luigi Denza\, as well as selections from Leonard Berstein's "West Side Story\," and the Arturo Marquez composition "Danz n No. 2" will conclude the evening's performance.
X-ALT-DESC;FMTTYPE=text/html:<p>\n	<span style="font-size:14px\;"><span style="font-family: arial\;">The Dixie State University Symphony Band will take the stage for the final time this 2012-13 academic year in presenting its program entitled &ldquo\;Tempered Steel&rdquo\;.<br />\n	<br />\n	The DSU Symphony Band is under the direction of longtime conductor Gary Caldwell\, who is in his 34th-year as director of bands at DSU\, and will be joined on stage by guest conductor and DSU music faculty member Ms. Rhonda Rhodes. &ldquo\;Tempered Steel&rdquo\; will fill concert goers with hope and inspiration with eight riveting compositions\, beginning with Ralph Vaughan Williams&rsquo\; three-movement folk composition &ldquo\;English Folk Song Suite\,&rdquo\; followed by a performance of &ldquo\;An American Elegy\,&rdquo\; which was composed in memory of those who lost their lives and pay tribute to those who survived the tragedy at Columbine High School on April 20\, 1999.<br />\n	<br />\n	The band will also perform the Robert Jager composition &ldquo\;Sinfonia Nobilissima\,&rdquo\; along with Jerry Bilik&rsquo\;s &ldquo\;American Civil War Fantasy\,&rdquo\; which features intermingled main themes of many riveting ballads and songs inspired by both the North and the South. The ensemble will also play the show&rsquo\;s title number\, &ldquo\;Tempered Steel\,&rdquo\; which celebrates triumph over unavoidable hardships and obstacles through through growth and resiliency in becoming &ldquo\;tempered.&rdquo\;<br />\n	<br />\n	In addition\, the band will play &ldquo\;Funiculi\, Funicula\,&rdquo\; composed by Luigi Denza\, as well as selections from Leonard Berstein&rsquo\;s &ldquo\;West Side Story\,&rdquo\; and the Arturo Marquez composition &ldquo\;Danz&oacute\;n No. 2&rdquo\; will conclude the evening&rsquo\;s performance.</span></span></p>\n
LOCATION:Dolores Dore' Eccles Fine Arts Center Concert Hall on the DSU campus.
UID:e.1117.2936
SEQUENCE:3
DTSTAMP:20260422T061552Z
URL:https://business.stgeorgechamber.com/events/details/dsu-symphony-band-annual-spring-concert-04-19-2013-2936
END:VEVENT

END:VCALENDAR
