BEGIN:VCALENDAR
VERSION:2.0
PRODID:-//ChamberMaster//Event Calendar 2.0//EN
METHOD:PUBLISH
X-PUBLISHED-TTL:P3D
REFRESH-INTERVAL:P3D
CALSCALE:GREGORIAN
BEGIN:VEVENT
DTSTART:20160715T013000Z
DTEND:20160715T040000Z
X-MICROSOFT-CDO-ALLDAYEVENT:FALSE
SUMMARY:DSU Summer Comedy Theater presents "The Lieutenant of Inishmore"
DESCRIPTION:Lauded as "Monty Python meets Quentin Tarantino\," this wildly black comedy opens on a lonely road on the island of Inishmore\, someone killed an Irish Liberation Army enforcer's cat. He'll want to know who when he gets back from a stint of torture and chip-shop bombing in Northern Ireland. He loves his cat more than life itself\, and someone is going to pay.\n\nMartin McDonagh won an Academy Award in 2006 for his short film Six Shooter. Other films that McDonagh has written and directed include In Bruges and Seven Psychopaths.\n\nJosh Scott is back to direct his 7th season of summer theater here at Dixie State University. His past hits include Don't Dress for Dinner\, Spamalot\, and Boeing-Boeing.\n\nThis play is presented through special arrangement with Dramatist Play Service\, Inc. This play is rated R for graphic violence\, language blood and a cat.
X-ALT-DESC;FMTTYPE=text/html:Lauded as &quot\;Monty Python meets Quentin Tarantino\,&quot\; this wildly black comedy opens on a lonely road on the island of Inishmore\, someone killed an Irish Liberation Army enforcer&#39\;s cat. He&#39\;ll want to know who when he gets back from a stint of torture and chip-shop bombing in Northern Ireland. He loves his cat more than life itself\, and someone is going to pay.<br />\nMartin McDonagh won an Academy Award in 2006 for his short film Six Shooter. Other films that McDonagh has written and directed include In Bruges and Seven Psychopaths.<br />\nJosh Scott is back to direct his 7th season of summer theater here at Dixie State University. His past hits include Don&#39\;t Dress for Dinner\, Spamalot\, and Boeing-Boeing.<br />\nThis play is presented through special arrangement with Dramatist Play Service\, Inc. This play is rated R for graphic violence\, language blood and a cat.&nbsp\;&nbsp\;
LOCATION:Eccles Black Box Theater Dixie State University
UID:e.1117.9009
SEQUENCE:3
DTSTAMP:20260419T165656Z
URL:https://business.stgeorgechamber.com/events/details/dsu-summer-comedy-theater-presents-the-lieutenant-of-inishmore-07-14-2016-9009
END:VEVENT

END:VCALENDAR
