BEGIN:VCALENDAR
VERSION:2.0
PRODID:-//ChamberMaster//Event Calendar 2.0//EN
METHOD:PUBLISH
X-PUBLISHED-TTL:P3D
REFRESH-INTERVAL:P3D
CALSCALE:GREGORIAN
BEGIN:VEVENT
DTSTART:20160719T013000Z
DTEND:20160719T040000Z
X-MICROSOFT-CDO-ALLDAYEVENT:FALSE
SUMMARY:DSU Summer Comedy Theater presents "Five Women Wearing The Same Dress"
DESCRIPTION:Five bridesmaids at an overwrought wedding reception in Knoxville\, TN\, take refuge in the bedroom of the bride's sister\, Meredith. Though their lone connection to one another is their relationships with the newlyweds\, the women from very different backgrounds learn they have more in common with each other than with the bride. As the afternoon wears on\, these five very different women joyously discover a common bond in this wickedly funny\, irreverent and touching celebration of the women's spirit.\n\nAlan Ball is an Academy Award and Golden Globe Winner for Best Screenplay for American Beauty. He is also the creator\, writer\, and executive producer of HBO hit series Six Feet Under and True Blood.\n\nThis play is presented through special arrangement with Dramatist Play Service\, Inc. The production is Rated R for Adult Themes and Language.
X-ALT-DESC;FMTTYPE=text/html:Five bridesmaids at an overwrought wedding reception in Knoxville\, TN\, take refuge in the bedroom of the bride&#39\;s sister\, Meredith. Though their lone connection to one another is their relationships with the newlyweds\, the women from very different backgrounds learn they have more in common with each other than with the bride. As the afternoon wears on\, these five very different women joyously discover a common bond in this wickedly funny\, irreverent and touching celebration of the women&#39\;s spirit.<br />\nAlan Ball is an Academy Award and Golden Globe Winner for Best Screenplay for American Beauty. He is also the creator\, writer\, and executive producer of HBO hit series Six Feet Under and True Blood.<br />\nThis play is presented through special arrangement with Dramatist Play Service\, Inc. The production is Rated R for Adult Themes and Language.
LOCATION:Eccles Black Box Theater Dixie State University
UID:e.1117.9001
SEQUENCE:3
DTSTAMP:20260419T165558Z
URL:https://business.stgeorgechamber.com/events/details/dsu-summer-comedy-theater-presents-five-women-wearing-the-same-dress-07-18-2016-9001
END:VEVENT

END:VCALENDAR
