BEGIN:VCALENDAR
VERSION:2.0
PRODID:-//ChamberMaster//Event Calendar 2.0//EN
METHOD:PUBLISH
X-PUBLISHED-TTL:P3D
REFRESH-INTERVAL:P3D
CALSCALE:GREGORIAN
BEGIN:VEVENT
DTSTART:20141006T180000Z
DTEND:20141006T190000Z
X-MICROSOFT-CDO-ALLDAYEVENT:FALSE
SUMMARY:DSU President's Colleagues Meeting
DESCRIPTION:Dixie State University will hold its first President's Colleagues of DSU meeting of the 2014-15 academic year on Monday\, October 6\, featuring a presentation on coin collecting by colleague William G. "Bill" Fulton.\n\n\n\nFulton's presentation\, entitled "Care and Handling of Collectable Coins\," will introduce the audience to numismatics\, which is study or collection of currency\, including coins\, tokens\, paper money and other related objects. A retired United States Air Force veteran\, Fulton\, along with his father\, started researching older U.S. coinage and its history\, and from that research came a valuable collection of various denominations. Among his collection is the Morgan Silver Dollar\, which he states "is one of the most beautiful coins ever minted by the U.S. Mint."\n\n\n\nThe President's Colleagues of Dixie State University\, established more than 20 years ago by former DSU President Dr. Douglas Alder\, is a group of retired professors and other professionals who live mostly in the St. George and Washington County area. Dr. Alder\, who also started an Honors Program at DSU\, organized the Colleagues as a way to increase academic activities on campus.\n\n\n\nThe Colleagues meet together once a month during the academic year to hear presentations from each other and/or invited guests. The next Colleagues meeting is scheduled for Monday\, November 3\, 2014\, featuring a presentation by author and musician Teresa Jordan.
X-ALT-DESC;FMTTYPE=text/html:<p><span style="font-size:14px\;"><span style="font-family:arial\;">Dixie State University will hold its first President&rsquo\;s Colleagues of DSU meeting of the 2014-15 academic year on Monday\, October 6\, featuring a presentation on coin collecting by colleague William G. &ldquo\;Bill&rdquo\; Fulton.<br />\n<br />\nFulton&rsquo\;s presentation\, entitled &ldquo\;Care and Handling of Collectable Coins\,&rdquo\; will introduce the audience to numismatics\, which is study or collection of currency\, including coins\, tokens\, paper money and other related objects. A retired United States Air Force veteran\, Fulton\, along with his father\, started researching older U.S. coinage and its history\, and from that research came a valuable collection of various denominations. Among his collection is the Morgan Silver Dollar\, which he states &ldquo\;is one of the most beautiful coins ever minted by the U.S. Mint.&rdquo\;<br />\n<br />\nThe President&rsquo\;s Colleagues of Dixie State University\, established more than 20 years ago by former DSU President Dr. Douglas Alder\, is a group of retired professors and other professionals who live mostly in the St. George and Washington County area. Dr. Alder\, who also started an Honors Program at DSU\, organized the Colleagues as a way to increase academic activities on campus.<br />\n<br />\nThe Colleagues meet together once a month during the academic year to hear presentations from each other and/or invited guests. The next Colleagues meeting is scheduled for Monday\, November 3\, 2014\, featuring a presentation by author and musician Teresa Jordan.</span></span></p>\n
LOCATION:Room 156 of the DSU Russell C. Taylor Health Science Center\, located on the Dixie Regional Medical Center's River Road campus at 1526 Medical Center Drive.
UID:e.1117.6148
SEQUENCE:3
DTSTAMP:20260421T030007Z
URL:https://business.stgeorgechamber.com/events/details/dsu-president-s-colleagues-meeting-10-06-2014-6148
END:VEVENT

END:VCALENDAR
