BEGIN:VCALENDAR
VERSION:2.0
PRODID:-//ChamberMaster//Event Calendar 2.0//EN
METHOD:PUBLISH
X-PUBLISHED-TTL:P3D
REFRESH-INTERVAL:P3D
CALSCALE:GREGORIAN
BEGIN:VEVENT
DTSTART:20140307T190000Z
DTEND:20140307T200000Z
X-MICROSOFT-CDO-ALLDAYEVENT:FALSE
SUMMARY:DSU President's Colleagues Meeting
DESCRIPTION:Dixie State University will hold its sixth President's Colleagues of DSU meeting of the 2013-14 academic year on Monday\, March 3\, featuring a presentation by DSU Associate Professor of Family Consumer Science Tim Eicher and his wife Penelope\, who will share their experiences working with the Heartwalk Foundation and their humanitarian efforts in Peru.\n\n\n\nBoth avid outdoors enthusiasts\, the couple was hiking in the mountains of Peru years ago and discovered some small native tribal communities hidden in the mountains. The Eichers "adopted" these communities and formed Heartwalk\, a humanitarian foundation that provides funding and materials for the improvement of agriculture\, farming\, schools and water\, among other resources. Many members of the St. George community are donors to and supporters of the Heartwalk Foundation. The Eichers annually lead a group to Peru to provide humanitarian service\, and will speak to the Colleagues about the Foundation and show pictures of their trips and adventures in that country.   \n\n\n\nThe President's Colleagues of Dixie State University\, established more than 20 years ago by former DSU President Dr. Douglas Alder\, is a group of retired professors and other professionals who live mostly in the St. George and Washington County area. Dr. Alder\, who also started an Honors Program at DSU\, organized the Colleagues as a way to increase academic activities on campus.\n\n\n\nThe Colleagues meet together once a month during the academic year to hear presentations from each other and/or invited guests. The next Colleagues meeting is scheduled for Monday\, April 7\, with a presentation entitled "Utah's National Monuments and Presidential Use of the Antiquities Act\," by Colleague and retired Southern Utah University professor Steven H. Heath.
X-ALT-DESC;FMTTYPE=text/html:<p><span style="color:black\;"><span style="font-family:tahoma\,sans-serif\;"><span style="font-size:12.0pt\;">Dixie State University will hold its sixth President&rsquo\;s Colleagues of DSU meeting of the 2013-14 academic year on Monday\, March 3\, featuring a presentation by DSU Associate Professor of Family Consumer Science Tim Eicher and his wife Penelope\, who will share their experiences working with the Heartwalk Foundation and their humanitarian efforts in Peru.<br />\n<br />\nBoth avid outdoors enthusiasts\, the couple was hiking in the mountains of Peru years ago and discovered some small native tribal communities hidden in the mountains. The Eichers &ldquo\;adopted&rdquo\; these communities and formed Heartwalk\, a humanitarian foundation that provides funding and materials for the improvement of agriculture\, farming\, schools and water\, among other resources. Many&nbsp\;members of the St. George community are donors to and supporters of the Heartwalk Foundation. The Eichers annually lead a group to Peru to provide humanitarian service\, and will speak to the Colleagues about the Foundation and show pictures of their trips and adventures in that country.&nbsp\; &nbsp\;<br />\n<br />\nThe President&rsquo\;s Colleagues of Dixie State University\, established more than 20 years ago by former DSU President Dr. Douglas Alder\, is a group of retired professors and other professionals who live mostly in the St. George and Washington County area. Dr. Alder\, who also started an Honors Program at DSU\, organized the Colleagues as a way to increase academic activities on campus.<br />\n<br />\nThe Colleagues meet together once a month during the academic year to hear presentations from each other and/or invited guests. The next Colleagues meeting is scheduled for Monday\, April 7\, with a presentation entitled &ldquo\;Utah&rsquo\;s National Monuments and Presidential Use of the Antiquities Act\,&rdquo\; by Colleague and retired Southern Utah University professor Steven H. Heath.</span></span></span></p>\n
LOCATION:Room 156 of the DSU Russell C. Taylor Health Science Center\, located on the Dixie Regional Medical Center's River Road campus at 1526 Medical Center Drive.
UID:e.1117.5096
SEQUENCE:3
DTSTAMP:20260421T125858Z
URL:https://business.stgeorgechamber.com/events/details/dsu-president-s-colleagues-meeting-03-07-2014-5096
END:VEVENT

END:VCALENDAR
