BEGIN:VCALENDAR
VERSION:2.0
PRODID:-//ChamberMaster//Event Calendar 2.0//EN
METHOD:PUBLISH
X-PUBLISHED-TTL:P3D
REFRESH-INTERVAL:P3D
CALSCALE:GREGORIAN
BEGIN:VEVENT
DTSTART:20150302T190000Z
DTEND:20150302T200000Z
X-MICROSOFT-CDO-ALLDAYEVENT:FALSE
SUMMARY:DSU President's Colleagues Meeting
DESCRIPTION:Dixie State University will host its sixth President's Colleagues of DSU meeting of the 2014-15 academic year on Monday\, March 2\, featuring a presentation by longtime DSU art professor Glen Blakley. \n\n\n\nFollowing the presentation\, Blakley will guide a tour of the 28th-Annual Sears Dixie Invitational Art Show\, which is currently on exhibit in the Sears Art Museum Gallery. \n\n\n\nBlakley will draw from his nearly 40 years as an art educator in addressing the topic\, "Why Art\, and Why is it Important." Since his arrival on the Dixie State campus in 1976\, Blakley has worked to bring art experiences to the institution\, the St. George community\, and the state of Utah. He helped establish the St. George Art Museum\, for which he was its first director for six years\, and was the first director of the St. George Arts Festival in 1979. In addition\, Blakley served on the Dixie Task Force\, St. George Arts Commission\, Southwest Utah Arts Council\, St. George Film Commission\, the Utah Arts Council Advisory Board\, and was the director of the St. George Art Museum.  \n\n\n\nBlakley completed his Master's of Fine Arts Degree at Brigham Young University in 1973. Prior to his tenure at DSU\, he taught art at Oregon City (OR) High School and at BYU. He has directed travel-study programs at DSU to art museums in the western United States and Europe for more than 30 years\, and has taken more than 19\,000 on tours to Los Angeles-area museums alone. \n\n\n\nIn 2013\, Blakley was presented with the "Certificate of Appreciation and Gratitude" honor by the National K-12 Ceramic Exhibition Foundation for his support of education in the ceramic arts. \n\n\n\nThe President's Colleagues of Dixie State University\, established more than 20 years ago by former DSU President Dr. Douglas Alder\, is a group of retired professors and other professionals who live mostly in the St. George and Washington County area. Dr. Alder\, who also started an Honors Program at DSU\, organized the Colleagues as a way to increase academic activities on campus.\n\n\n\nThe Colleagues meet together once a month during the academic year to hear presentations from each other and/or invited guests. The April Colleagues meeting will spotlight the life and legacy of President Theodore Roosevelt\, with a presentation by DSU colleague Ben Mahaffey on Monday\, April 6.
X-ALT-DESC;FMTTYPE=text/html:<p><span style="font-family:arial\;"><span style="color: rgb(0\, 0\, 0)\; font-size: 14px\; line-height: normal\;">Dixie State University will host its sixth President&rsquo\;s Colleagues of DSU meeting of the 2014-15 academic year on&nbsp\;</span><span class="aBn" data-term="goog_128841736" style="border-bottom-width: 1px\; border-bottom-style: dashed\; border-bottom-color: rgb(204\, 204\, 204)\; position: relative\; top: -2px\; z-index: 0\; color: rgb(0\, 0\, 0)\; font-size: 14px\; line-height: normal\;" tabindex="0"><span class="aQJ" style="position: relative\; top: 2px\; z-index: -1\;">Monday\, March 2</span></span><span style="color: rgb(0\, 0\, 0)\; font-size: 14px\; line-height: normal\;">\, featuring a presentation by longtime DSU art professor Glen Blakley.&nbsp\;</span><br style="color: rgb(0\, 0\, 0)\; font-family: Tahoma\; font-size: 14px\; line-height: normal\;" />\n<br style="color: rgb(0\, 0\, 0)\; font-family: Tahoma\; font-size: 14px\; line-height: normal\;" />\n<span style="color: rgb(0\, 0\, 0)\; font-size: 14px\; line-height: normal\;">Following the presentation\, Blakley will guide a tour of the 28</span><sup style="color: rgb(0\, 0\, 0)\; font-family: Tahoma\; line-height: normal\;">th</sup><span style="color: rgb(0\, 0\, 0)\; font-size: 14px\; line-height: normal\;">-Annual Sears Dixie Invitational Art Show\, which is currently on exhibit in the Sears Art Museum Gallery.&nbsp\;</span><br style="color: rgb(0\, 0\, 0)\; font-family: Tahoma\; font-size: 14px\; line-height: normal\;" />\n<br style="color: rgb(0\, 0\, 0)\; font-family: Tahoma\; font-size: 14px\; line-height: normal\;" />\n<span style="color: rgb(0\, 0\, 0)\; font-size: 14px\; line-height: normal\;">Blakley will draw from his nearly 40 years as an art educator in addressing the topic\, &ldquo\;Why Art\, and Why is it Important.&rdquo\; Since his arrival on the Dixie State campus in 1976\, Blakley has worked to bring art experiences to the institution\, the St. George community\, and the state of Utah. He helped establish the St. George Art Museum\, for which he was its first director for six years\, and was the first director of the St. George Arts Festival in 1979. In addition\, Blakley served on the Dixie Task Force\, St. George Arts Commission\, Southwest Utah Arts Council\, St. George Film Commission\, the Utah Arts Council Advisory Board\, and was the director of the St. George Art Museum. &nbsp\;</span><br style="color: rgb(0\, 0\, 0)\; font-family: Tahoma\; font-size: 14px\; line-height: normal\;" />\n<br style="color: rgb(0\, 0\, 0)\; font-family: Tahoma\; font-size: 14px\; line-height: normal\;" />\n<span style="color: rgb(0\, 0\, 0)\; font-size: 14px\; line-height: normal\;">Blakley completed his Master&rsquo\;s of Fine Arts Degree at Brigham Young University in 1973. Prior to his tenure at DSU\, he taught art at Oregon City (OR) High School and at BYU. He has directed travel-study programs at DSU to art museums in the western United States and Europe for more than 30 years\, and has taken more than 19\,000 on tours to Los Angeles-area museums alone.&nbsp\;</span><br style="color: rgb(0\, 0\, 0)\; font-family: Tahoma\; font-size: 14px\; line-height: normal\;" />\n<br style="color: rgb(0\, 0\, 0)\; font-family: Tahoma\; font-size: 14px\; line-height: normal\;" />\n<span style="color: rgb(0\, 0\, 0)\; font-size: 14px\; line-height: normal\;">In 2013\, Blakley was presented with the &ldquo\;Certificate of Appreciation and Gratitude&rdquo\; honor by the National K-12 Ceramic Exhibition Foundation for his support of education in the ceramic arts.&nbsp\;</span><br style="color: rgb(0\, 0\, 0)\; font-family: Tahoma\; font-size: 14px\; line-height: normal\;" />\n<br style="color: rgb(0\, 0\, 0)\; font-family: Tahoma\; font-size: 14px\; line-height: normal\;" />\n<span style="color: rgb(0\, 0\, 0)\; font-size: 14px\; line-height: normal\;">The President&rsquo\;s Colleagues of Dixie State University\, established more than 20 years ago by former DSU President Dr. Douglas Alder\, is a group of retired professors and other professionals who live mostly in the St. George and Washington County area. Dr. Alder\, who also started an Honors Program at DSU\, organized the Colleagues as a way to increase academic activities on campus.</span><br style="color: rgb(0\, 0\, 0)\; font-family: Tahoma\; font-size: 14px\; line-height: normal\;" />\n<br style="color: rgb(0\, 0\, 0)\; font-family: Tahoma\; font-size: 14px\; line-height: normal\;" />\n<span style="color: rgb(0\, 0\, 0)\; font-size: 14px\; line-height: normal\;">The Colleagues meet together once a month during the academic year to hear presentations from each other and/or invited guests. The April Colleagues meeting will spotlight the life and legacy of President Theodore Roosevelt\, with a presentation by DSU colleague Ben Mahaffey on&nbsp\;</span><span class="aBn" data-term="goog_128841738" style="border-bottom-width: 1px\; border-bottom-style: dashed\; border-bottom-color: rgb(204\, 204\, 204)\; position: relative\; top: -2px\; z-index: 0\; color: rgb(0\, 0\, 0)\; font-size: 14px\; line-height: normal\;" tabindex="0"><span class="aQJ" style="position: relative\; top: 2px\; z-index: -1\;">Monday\, April 6</span></span><span style="color: rgb(0\, 0\, 0)\; font-size: 14px\; line-height: normal\;">.</span></span></p>\n
LOCATION:The meeting will begin at 12 noon\, in the DSU Eccles Fine Arts Center Mainstage Theatre.
UID:e.1117.6341
SEQUENCE:3
DTSTAMP:20260420T190936Z
URL:https://business.stgeorgechamber.com/events/details/dsu-president-s-colleagues-meeting-03-02-2015-6341
END:VEVENT

END:VCALENDAR
