BEGIN:VCALENDAR
VERSION:2.0
PRODID:-//ChamberMaster//Event Calendar 2.0//EN
METHOD:PUBLISH
X-PUBLISHED-TTL:P3D
REFRESH-INTERVAL:P3D
CALSCALE:GREGORIAN
BEGIN:VEVENT
DTSTART:20151031T170000Z
DTEND:20151031T190000Z
X-MICROSOFT-CDO-ALLDAYEVENT:FALSE
SUMMARY:DSU Health Sciences Children's Health & Safety Fair
DESCRIPTION:Please join the DSU Health Sciences for a fun filled afternoon full of child safety tips\, tricks\, and treats!\n\n*Basic Assessments\n\n*Tour the Dental Hygiene bus\n\n*Bicycle Safety\n\n*Car Seat Safety\n\n*Fire Safety\n\n*Child ID and finger printing\n\n*Meet the DRMC Life Flight crew\n\n-Trick-or-treat
X-ALT-DESC;FMTTYPE=text/html:Please join the DSU Health Sciences for a fun filled afternoon full of child safety tips\, tricks\, and treats!<br />\n*Basic Assessments<br />\n*Tour the Dental Hygiene bus<br />\n*Bicycle Safety<br />\n*Car Seat Safety<br />\n*Fire Safety<br />\n*Child ID and finger printing<br />\n*Meet the DRMC&nbsp\;Life Flight crew<br />\n-Trick-or-treat<br />\n&nbsp\;
LOCATION:Russell C. Taylor Health Science Building
UID:e.1117.7279
SEQUENCE:3
DTSTAMP:20260420T065715Z
URL:https://business.stgeorgechamber.com/events/details/dsu-health-sciences-children-s-health-safety-fair-10-31-2015-7279
END:VEVENT

END:VCALENDAR
