BEGIN:VCALENDAR
VERSION:2.0
PRODID:-//ChamberMaster//Event Calendar 2.0//EN
METHOD:PUBLISH
X-PUBLISHED-TTL:P3D
REFRESH-INTERVAL:P3D
CALSCALE:GREGORIAN
BEGIN:VEVENT
DTSTART:20131111T190000Z
DTEND:20131111T190000Z
X-MICROSOFT-CDO-ALLDAYEVENT:FALSE
SUMMARY:DSU Barnum Honors Lecture
DESCRIPTION:Dixie State University's School of Humanities will host its third Barnum Honors Lecture of the 2013-14 academic year with a special poetry reading by award-winning author and Southern Utah University creative writing professor Danielle Dubrasky. \n\n\n\nMs. Dubrasky will read from her poetry compilation entitled "The Sand Man\," which won the Utah Arts Council award in 2011. She has received several other awards for her work over the past decade\, including the Utah Arts Council award in 2006 for her manuscript "To Live Elsewhere\," and her recent manuscript\, entitled "Ruin and Light\," was a semifinalist for the 2013 Elixir Press Poetry Award.
X-ALT-DESC;FMTTYPE=text/html:<span style="font-size:14px\;"><span style="font-family:arial\;">Dixie State University&rsquo\;s School of Humanities will host its third Barnum Honors Lecture of the 2013-14 academic year with a special poetry reading by award-winning author and Southern Utah University creative writing professor Danielle Dubrasky.&nbsp\;<br />\n<br />\nMs. Dubrasky will read from her poetry compilation entitled &ldquo\;The Sand Man\,&rdquo\; which won the Utah Arts Council award in 2011. She has received several other awards for her work over the past decade\, including the Utah Arts Council award in 2006 for her manuscript &ldquo\;To Live Elsewhere\,&rdquo\; and her recent manuscript\, entitled &ldquo\;Ruin and Light\,&rdquo\; was a semifinalist for the 2013 Elixir Press Poetry Award. </span></span><br />\n
LOCATION:Zion Room (fifth floor) of the DSU Holland Centennial Commons.
UID:e.1117.4947
SEQUENCE:3
DTSTAMP:20260421T182508Z
URL:https://business.stgeorgechamber.com/events/details/dsu-barnum-honors-lecture-11-11-2013-4947
END:VEVENT

END:VCALENDAR
