BEGIN:VCALENDAR
VERSION:2.0
PRODID:-//ChamberMaster//Event Calendar 2.0//EN
METHOD:PUBLISH
X-PUBLISHED-TTL:P3D
REFRESH-INTERVAL:P3D
CALSCALE:GREGORIAN
BEGIN:VEVENT
DTSTART:20130412T013000Z
DTEND:20130413T030000Z
X-MICROSOFT-CDO-ALLDAYEVENT:FALSE
SUMMARY:DSU Annual Dance Concert
DESCRIPTION:The Dixie State University Dance Company\, under the direction of DSU Director of Dance Dr. Li Lei\, will present its annual Spring Dance Concert.\n\n\n\nEstablished in 2001\, the DSU Dance Company is made up of more than 10 of the best student dancers the University has to offer. The ensemble is trained in a variety of dance styles\, including ballet\, modern\, world\, hip hop\, tap\, ballroom and jazz. Artistic dance faculty members and students choreograph inventive and inspiring dance pieces that express a variety of emotions\, talents\, creativity\, and entertainment.
X-ALT-DESC;FMTTYPE=text/html:<span style="font-family:times new roman\,serif\;"><span style="font-size:12.0pt\;"><span style="font-size:14px\;"><span style="font-family: arial\;">The Dixie State University Dance Company\, under the direction of DSU Director of Dance Dr. Li Lei\, will present its annual Spring Dance Concert.<br />\n<br />\nEstablished in 2001\, the DSU Dance Company is made up of more than 10 of the best student dancers the University has to offer. The ensemble is trained in a variety of dance styles\, including ballet\, modern\, world\, hip hop\, tap\, ballroom and jazz. Artistic dance faculty members and students choreograph inventive and inspiring dance pieces that express a variety of emotions\, talents\, creativity\, and entertainment.</span></span></span></span><br />\n
LOCATION:Dolores Dore' Eccles Fine Arts Center Mainstage Theatre on the DSU campus.
UID:e.1117.2923
SEQUENCE:3
DTSTAMP:20260422T061459Z
URL:https://business.stgeorgechamber.com/events/details/dsu-annual-dance-concert-04-11-2013-2923
END:VEVENT

END:VCALENDAR
