BEGIN:VCALENDAR
VERSION:2.0
PRODID:-//ChamberMaster//Event Calendar 2.0//EN
METHOD:PUBLISH
X-PUBLISHED-TTL:P3D
REFRESH-INTERVAL:P3D
CALSCALE:GREGORIAN
BEGIN:VEVENT
DTSTART:20131208T023000Z
DTEND:20131208T040000Z
X-MICROSOFT-CDO-ALLDAYEVENT:FALSE
SUMMARY:DSC Symphony Orchestra Christmas Concert
DESCRIPTION:The Dixie State University Symphony Orchestra\, under the direction of Dr. Paul Abegg\, will put a bow on DSU's Holiday Concert season with a special Christmas concert on Saturday\, December 7.\n\n	\n\n	The DSU Symphony Orchestra will perform a number of holiday classics\, including such favorites as "Sleigh Ride" and selections from "The Nutcracker\," among many other popular carols. The Orchestra will also be joined on stage by the Hurricane High School Orchestra and the local band PANGEA. \n\n	\n\n	In addition\, in what has become a Christmas tradition at DSU\, the evening will be highlighted by a performance of Bill Holcombe's arrangement of "T'was the Night Before Christmas\," featuring Dixie State First Lady Margaret D. Nadauld as narrator.\n\n	\n\n	The DSU Symphony Orchestra will perform twice this semester\, including a pair of concerts during the 2014 spring semester\, beginning with the ensemble's winter concert on Saturday\, February 22\, followed by the season finale spring concert on Saturday\, April 19. The Orchestra will also perform during Dixie State's Centennial Commencement Ceremonies\, which is slated for Friday\, May 2\, 2014.
X-ALT-DESC;FMTTYPE=text/html:<p>\n	<span style="font-size:14px\;">The Dixie State University Symphony Orchestra\, under the direction of Dr. Paul Abegg\, will put a bow on DSU&rsquo\;s Holiday Concert season with a special Christmas concert on Saturday\, December 7.<br />\n	<br />\n	The DSU Symphony Orchestra will perform a number of holiday classics\, including such favorites as &ldquo\;Sleigh Ride&rdquo\; and selections from &ldquo\;The Nutcracker\,&rdquo\; among many other popular carols. The Orchestra will also be joined on stage by the Hurricane High School Orchestra and the local band PANGEA.&nbsp\;<br />\n	<br />\n	In addition\, in what has become a Christmas tradition at DSU\, the evening will be highlighted by a performance of Bill Holcombe&rsquo\;s arrangement of &ldquo\;T&rsquo\;was the Night Before Christmas\,&rdquo\; featuring Dixie State First Lady Margaret D. Nadauld as narrator.<br />\n	<br />\n	The DSU Symphony Orchestra will perform twice this semester\, including a pair of concerts during the 2014 spring semester\, beginning with the ensemble&rsquo\;s winter concert on Saturday\, February 22\, followed by the season finale spring concert on Saturday\, April 19. The Orchestra will also perform during Dixie State&rsquo\;s Centennial Commencement Ceremonies\, which is slated for Friday\, May 2\, 2014.</span></p>\n
LOCATION:Avenna Center Cox Auditorium Dixie State College
UID:e.1117.4981
SEQUENCE:3
DTSTAMP:20260421T171356Z
URL:https://business.stgeorgechamber.com/events/details/dsc-symphony-orchestra-christmas-concert-12-07-2013-4981
END:VEVENT

END:VCALENDAR
