BEGIN:VCALENDAR
VERSION:2.0
PRODID:-//ChamberMaster//Event Calendar 2.0//EN
METHOD:PUBLISH
X-PUBLISHED-TTL:P3D
REFRESH-INTERVAL:P3D
CALSCALE:GREGORIAN
BEGIN:VEVENT
DTSTART:20131019T153000Z
DTEND:20131019T180000Z
X-MICROSOFT-CDO-ALLDAYEVENT:FALSE
SUMMARY:Downtown Farmers Market at Ancestor Square
DESCRIPTION:The Downtown Farmers Market at Ancestor Square\, is a free event in the courtyard at Ancestor Square\, located on St. George Blvd. and Main Street\, Historic Downtown St. George. Thirty plus vendors from all over Washington and Iron County\, seasonal farm fresh produce\, live plants\, fabric goods\, jewelry\, woodwork\, leather work\, hot coffee\, lemonade\, water and more. This Market features anything and everything homegrown\, homemade and/or locally produced. Live music on Center Stage each week from 9:30   12 Noon\, music this week is Stillhouse Road.
X-ALT-DESC;FMTTYPE=text/html:<span style="color:black\;"><span style="font-family:arial\,sans-serif\;"><span style="font-size:12.0pt\;">The Downtown Farmers Market at Ancestor Square\, is a free event in the courtyard at Ancestor Square\, located on St. George Blvd. and Main Street\, Historic Downtown St. George. Thirty plus vendors from all over Washington and Iron County\, seasonal farm fresh produce\, live plants\, fabric goods\, jewelry\, woodwork\, leather work\, hot coffee\, lemonade\, water and more. This Market features anything and everything homegrown\, homemade and/or locally produced. Live music on Center Stage each week from 9:30 &ndash\; 12 Noon\, music this week is Stillhouse Road.&nbsp\;</span></span></span>
LOCATION:
UID:e.1117.2899
SEQUENCE:3
DTSTAMP:20260421T201629Z
URL:https://business.stgeorgechamber.com/events/details/downtown-farmers-market-at-ancestor-square-10-19-2013-2899
END:VEVENT

END:VCALENDAR
