BEGIN:VCALENDAR
VERSION:2.0
PRODID:-//ChamberMaster//Event Calendar 2.0//EN
METHOD:PUBLISH
X-PUBLISHED-TTL:P3D
REFRESH-INTERVAL:P3D
CALSCALE:GREGORIAN
BEGIN:VEVENT
DTSTART:20141018T140000Z
DTEND:20141018T180000Z
X-MICROSOFT-CDO-ALLDAYEVENT:FALSE
SUMMARY:Downtown Farmers Market at Ancestor Square
DESCRIPTION:The Downtown Farmers Market at Ancestor Square\, is opening May 10\, 2014 and will run through October 25\, 2014. This is a free event open every Saturday in the courtyard at Ancestor Square\, located on St. George Blvd. and Main Street\, Historic Downtown St. George. Thirty plus vendors from all over Washington and Iron County\, seasonal farm fresh produce\, live plants\, fabric goods\, jewelry\, woodwork\, candles\, leather work\, hot coffee\, lemonade\, water and more. This Market features anything and everything homegrown\, homemade and/or locally produced. Live music is featured every Saturday on center stage in the Square from 9:30am to 12 Noon.
X-ALT-DESC;FMTTYPE=text/html:<strong><span style="color:black\;"><span style="font-family:arial\,sans-serif\;">The Downtown Farmers Market at Ancestor Square\,&nbsp\;</span></span></strong><span style="color:black\;"><span style="font-family:arial\,sans-serif\;">is opening May 10\, 2014 and will run through October 25\, 2014. This is a free event open every Saturday in the courtyard at Ancestor Square\, located on St. George Blvd. and Main Street\, <strong>Historic Downtown St. George</strong>. Thirty plus vendors from all over Washington and Iron County\, seasonal farm fresh produce<strong>\,</strong> live plants\, fabric goods\, jewelry\, woodwork\, candles\, leather work\, hot coffee\, lemonade\, water and more. This Market features anything and everything homegrown\, homemade and/or locally produced. Live music is featured every Saturday on center stage in the Square from 9:30am to 12 Noon.&nbsp\;</span></span>
LOCATION:
UID:e.1117.5257
SEQUENCE:3
DTSTAMP:20260421T030156Z
URL:https://business.stgeorgechamber.com/events/details/downtown-farmers-market-at-ancestor-square-10-18-2014-5257
END:VEVENT

END:VCALENDAR
