BEGIN:VCALENDAR
VERSION:2.0
PRODID:-//ChamberMaster//Event Calendar 2.0//EN
METHOD:PUBLISH
X-PUBLISHED-TTL:P3D
REFRESH-INTERVAL:P3D
CALSCALE:GREGORIAN
BEGIN:VEVENT
DTSTART:20131012T153000Z
DTEND:20131012T180000Z
X-MICROSOFT-CDO-ALLDAYEVENT:FALSE
SUMMARY:Downtown Farmers Market at Ancestor Square
DESCRIPTION:The Downtown Farmers Market at Ancestor Square\, is a free event open every Saturday May 2013   October 2013.  Thirty plus vendors from all over Washington and Iron County\, seasonal farm fresh produce\, live plants\, fabric goods\, jewelry\, woodwork\, leather work\, hot coffee\, lemonade\, water and more. This Market features anything and everything homegrown\, homemade and/or locally produced. Live music on Center Stage each week from 9:30   12 Noon.  Music this week is The Pine Mountain Bluegrass Band.
X-ALT-DESC;FMTTYPE=text/html:<span style="color:black\;"><span style="font-family:arial\,sans-serif\;"><span style="font-size:12.0pt\;">The Downtown Farmers Market at Ancestor Square\, is a free event open every Saturday May 2013 &ndash\; October 2013. &nbsp\;Thirty plus vendors from all over Washington and Iron County\, seasonal farm fresh produce\, live plants\, fabric goods\, jewelry\, woodwork\, leather work\, hot coffee\, lemonade\, water and more. This Market features anything and everything homegrown\, homemade and/or locally produced. Live music on Center Stage each week from 9:30 &ndash\; 12 Noon. &nbsp\;Music this week is The Pine Mountain Bluegrass Band.&nbsp\;</span></span></span><span style="color:black\;"><span style="font-family:arial\,sans-serif\;">&nbsp\;</span></span>
LOCATION:Ancestor Square\, located on St. George Blvd. and Main Street\, Historic Downtown St. George
UID:e.1117.2898
SEQUENCE:3
DTSTAMP:20260421T201754Z
URL:https://business.stgeorgechamber.com/events/details/downtown-farmers-market-at-ancestor-square-10-12-2013-2898
END:VEVENT

END:VCALENDAR
