BEGIN:VCALENDAR
VERSION:2.0
PRODID:-//ChamberMaster//Event Calendar 2.0//EN
METHOD:PUBLISH
X-PUBLISHED-TTL:P3D
REFRESH-INTERVAL:P3D
CALSCALE:GREGORIAN
BEGIN:VEVENT
DTSTART:20140920T140000Z
DTEND:20140920T180000Z
X-MICROSOFT-CDO-ALLDAYEVENT:FALSE
SUMMARY:Downtown Farmers Market at Ancestor Square
DESCRIPTION:The Downtown Farmers Market at Ancestor Square is a free event\, held every Saturday.  Downtown Farmers Market  features a variety of vendors from all over Washington County and Iron County\, selling seasonal produce such as organic fruits and vegetables\, cheeses such as goat\, feta\, gouda and cheddar\, free range organic eggs\, local honey\, granola\, cut flowers\, herbs\, fabric goods\, soaps & lotions\, jewelry\, woodwork\, iced coffee\, pastries and more.  Anything and everything homegrown\, homemade and/or locally produced.  In addition to more than twenty five vendors selling their goods we also feature local musicians playing on center stage\, this week is Dulce\, Jaki and Michael King\, playing from 9:30am to 12 Noon. The center lawn will be open to the public to enjoy the music and the beautiful Southern Utah mornings.  \n\n\n\nParking is located  in the adjacent parking lot at Ancestor Square.
X-ALT-DESC;FMTTYPE=text/html:<p><span style="font-size:14px\;"><span style="font-family:arial\;"><span style="color:black\;">The Downtown Farmers Market at Ancestor Square is a free event\, held every Saturday. &nbsp\;Downtown Farmers Market&nbsp\; features a variety of vendors from all over Washington County and Iron County\, selling seasonal produce such as organic fruits and vegetables\, cheeses such as goat\, feta\, gouda and cheddar\, free range organic eggs\, local honey\, granola\, cut flowers\, herbs\, fabric goods\, soaps &amp\; lotions\, jewelry\, woodwork\, iced coffee\, pastries and more.&nbsp\; Anything and everything homegrown\, homemade and/or locally produced. &nbsp\;In addition to more than twenty five vendors selling their goods we also feature local musicians playing on center stage\, this week is Dulce\, Jaki and Michael King\, playing from 9:30am to 12 Noon. The center lawn will be open to the public to enjoy the music and the beautiful Southern Utah mornings.&nbsp\; </span><br />\n<br />\n<span style="color:black\;">Parking is located&nbsp\; in the adjacent parking lot at Ancestor Square.&nbsp\;&nbsp\;</span></span></span></p>\n
LOCATION:Ancestor Square St. George
UID:e.1117.5253
SEQUENCE:3
DTSTAMP:20260421T043531Z
URL:https://business.stgeorgechamber.com/events/details/downtown-farmers-market-at-ancestor-square-09-20-2014-5253
END:VEVENT

END:VCALENDAR
