BEGIN:VCALENDAR
VERSION:2.0
PRODID:-//ChamberMaster//Event Calendar 2.0//EN
METHOD:PUBLISH
X-PUBLISHED-TTL:P3D
REFRESH-INTERVAL:P3D
CALSCALE:GREGORIAN
BEGIN:VEVENT
DTSTART:20140816T140000Z
DTEND:20140816T180000Z
X-MICROSOFT-CDO-ALLDAYEVENT:FALSE
SUMMARY:Downtown Farmers Market at Ancestor Square
DESCRIPTION:The Downtown Farmers Market at Ancestor Square is a free event\, held every  Saturday\, from 8am to 12 noon in the courtyard at Ancestor Square\, located at St. George Blvd. and Main Street in Historic Downtown St. George.   The Farmers Market  features a variety of vendors from all over Washington County and Iron County\, selling seasonal produce such as organic fruits and vegetables\, cheeses such as goat\, feta\, gouda and cheddar\, free range organic eggs\, local honey\, granola\, cut flowers\, herbs\, fabric goods\, soaps & lotions\, jewelry\, woodwork\, iced coffee\, pastries and more.  Anything and everything homegrown\, homemade and/or locally produced.  In addition to more than twenty five vendors selling their goods we also feature local musicians playing on center stage\, this week is Stillhouse Road playing from 9:30am to 12 Noon. The center lawn will be open to the public to enjoy the music and the beautiful Southern Utah mornings.  This is a place to do your weekly shopping for produce\, shop for gifts\, artwork or a new plant for the yard\, enjoy breakfast and some nice music on the lawn.\n\n Parking is located  in the adjacent parking lot at Ancestor Square.
X-ALT-DESC;FMTTYPE=text/html:<p><span style="font-size:14px\;"><span style="font-family:arial\;"><span style="color:black\;">The Downtown Farmers Market at Ancestor Square is a free event\, held every&nbsp\; Saturday\, from 8am to 12 noon <strong>in the courtyard at Ancestor Square</strong>\, located at St. George Blvd. and Main Street in Historic Downtown St. George.&nbsp\; &nbsp\;The Farmers Market&nbsp\; features a variety of vendors from all over Washington County and Iron County\, selling seasonal produce such as organic fruits and vegetables\, cheeses such as goat\, feta\, gouda and cheddar\, free range organic eggs\, local honey\, granola\, cut flowers\, herbs\, fabric goods\, soaps &amp\; lotions\, jewelry\, woodwork\, iced coffee\, pastries and more.&nbsp\; Anything and everything homegrown\, homemade and/or locally produced. &nbsp\;In addition to more than twenty five vendors selling their goods we also feature local musicians playing on center stage\, this week is Stillhouse Road playing from 9:30am to 12 Noon. The center lawn will be open to the public to enjoy the music and the beautiful Southern Utah mornings.&nbsp\; This is a place to do your weekly shopping for produce\, shop for gifts\, artwork or a new plant for the yard\, enjoy breakfast and some nice music on the lawn.</span></span></span><br />\n<span style="color:black\;"><span style="font-size:14px\;"><span style="font-family:arial\;">&nbsp\;Parking is located&nbsp\; in the adjacent parking lot at Ancestor Square.&nbsp\;&nbsp\;</span></span></span></p>\n
LOCATION:
UID:e.1117.5248
SEQUENCE:3
DTSTAMP:20260421T055620Z
URL:https://business.stgeorgechamber.com/events/details/downtown-farmers-market-at-ancestor-square-08-16-2014-5248
END:VEVENT

END:VCALENDAR
