BEGIN:VCALENDAR
VERSION:2.0
PRODID:-//ChamberMaster//Event Calendar 2.0//EN
METHOD:PUBLISH
X-PUBLISHED-TTL:P3D
REFRESH-INTERVAL:P3D
CALSCALE:GREGORIAN
BEGIN:VEVENT
DTSTART:20130803T153000Z
DTEND:20130803T180000Z
X-MICROSOFT-CDO-ALLDAYEVENT:FALSE
SUMMARY:Downtown Farmers Market at Ancestor Square
DESCRIPTION:The Downtown Farmers Market at Ancestor Square\, is a free event open every Saturday in the courtyard at Ancestor Square\, located on St. George Blvd. and Main Street\, Historic Downtown St. George. Thirty plus vendors from all over Washington and Iron County\, seasonal farm fresh produce\, live plants\, fabric goods\, jewelry\, woodwork\, candles\, leather work\, breakfast burritos hot off the grill from Irmitas\, freshly baked pastries\, hot coffee\, lemonade\, water and more. This Market features anything and everything homegrown\, homemade and/or locally produced. Live music is featured every Saturday on center stage in the Square from 9:30am to 12 Noon\, this week music is Beans n' Wheels\, http://www.beansandwheels.com.
X-ALT-DESC;FMTTYPE=text/html:<p>\n	<span style="font-size:14px\;"><span style="font-family:arial\;"><span style="color:black\;">The Downtown Farmers Market at Ancestor Square\, is a free event open every Saturday in the courtyard at Ancestor Square\, located on St. George Blvd. and Main Street\, Historic Downtown St. George. Thirty plus vendors from all over Washington and Iron County\, seasonal farm fresh produce\, live plants\, fabric goods\, jewelry\, woodwork\, candles\, leather work\, breakfast burritos hot off the grill from Irmitas\, freshly baked pastries\, hot coffee\, lemonade\, water and more. This Market features anything and everything homegrown\, homemade and/or locally produced. Live music is featured every Saturday on center stage in the Square from 9:30am to 12 Noon\, this week music is Beans n&#39\; Wheels\, <a href="http://www.beansandwheels.com/" target="_blank">http://www.beansandwheels.com</a>. &nbsp\;</span></span></span></p>\n
LOCATION:
UID:e.1117.2888
SEQUENCE:3
DTSTAMP:20260421T233229Z
URL:https://business.stgeorgechamber.com/events/details/downtown-farmers-market-at-ancestor-square-08-03-2013-2888
END:VEVENT

END:VCALENDAR
