BEGIN:VCALENDAR
VERSION:2.0
PRODID:-//ChamberMaster//Event Calendar 2.0//EN
METHOD:PUBLISH
X-PUBLISHED-TTL:P3D
REFRESH-INTERVAL:P3D
CALSCALE:GREGORIAN
BEGIN:VEVENT
DTSTART:20130615T153000Z
DTEND:20130615T180000Z
X-MICROSOFT-CDO-ALLDAYEVENT:FALSE
SUMMARY:Downtown Farmers Market at Ancestor Square
DESCRIPTION:The Downtown Farmers Market at Ancestor Square\, is a free event open every Saturday in the courtyard at Ancestor Square\, located on St. George Blvd. and Main Street\, Historic Downtown St. George. Thirty plus vendors from all over Washington and Iron County\, seasonal farm fresh produce\, live plants\, fabric goods\, jewelry\, woodwork\, candles\, leather work\, breakfast burritos hot off the grill from Irmitas\, freshly baked pastries\, crepes\, frozen yogurt\, iced coffee\, lemonade\, water and more. This Market features anything and everything homegrown\, homemade and/or locally produced. Live music is featured every Saturday on center stage in the Square from 9:30am to 12 Noon\, this week music is husband and wife duo\, Dulce.
X-ALT-DESC;FMTTYPE=text/html:<span style="color:black\;"><span style="font-family:arial\,sans-serif\;"><span style="font-size:12.0pt\;">The Downtown Farmers Market at Ancestor Square\, is a free event open every Saturday in the courtyard at Ancestor Square\, located on St. George Blvd. and Main Street\, Historic Downtown St. George. Thirty plus vendors from all over Washington and Iron County\, seasonal farm fresh produce\, live plants\, fabric goods\, jewelry\, woodwork\, candles\, leather work\, breakfast burritos hot off the grill from Irmitas\, freshly baked pastries\, crepes\, frozen yogurt\, iced coffee\, lemonade\, water and more. This Market features anything and everything homegrown\, homemade and/or locally produced. Live music is featured every Saturday on center stage in the Square from 9:30am to 12 Noon\, this week music is husband and wife duo\, Dulce.</span></span></span>
LOCATION:
UID:e.1117.2881
SEQUENCE:3
DTSTAMP:20260422T024349Z
URL:https://business.stgeorgechamber.com/events/details/downtown-farmers-market-at-ancestor-square-06-15-2013-2881
END:VEVENT

END:VCALENDAR
