BEGIN:VCALENDAR
VERSION:2.0
PRODID:-//ChamberMaster//Event Calendar 2.0//EN
METHOD:PUBLISH
X-PUBLISHED-TTL:P3D
REFRESH-INTERVAL:P3D
CALSCALE:GREGORIAN
BEGIN:VEVENT
DTSTART:20130608T153000Z
DTEND:20130608T180000Z
X-MICROSOFT-CDO-ALLDAYEVENT:FALSE
SUMMARY:Downtown Farmers Market at Ancestor Square
DESCRIPTION:The Downtown Farmers Market at Ancestor Square\, is a free event open every Saturday in the courtyard at Ancestor Square\, located on St. George Blvd. and Main Street\, Historic Downtown St. George. Thirty plus vendors from all over Washington and Iron County\, seasonal farm fresh produce\, live plants\, fabric goods\, jewelry\, woodwork\, candles\, leather work\, breakfast burritos hot off the grill from Irmitas\, freshly baked pastries\, hot coffee\, lemonade\, water and more. This Market features anything and everything homegrown\, homemade and/or locally produced. Live music is featured every Saturday on center stage in the Square from 9:30am to 12 Noon\, this week music is Stillhouse Road. Stillhouse Road features the talents of Joe and Paula Ferrario\, and offers a special blend of original songs\, bluegrass\, mountain music\, and gospel favorites. The music comes alive with vibrant vocals and the acoustic rhythms of guitar\, mandolin\, fiddle\, and bass.
X-ALT-DESC;FMTTYPE=text/html:<strong><span style="color:black\;"><span style="font-family:arial\,sans-serif\;"><span style="font-size:12.0pt\;">The Downtown Farmers Market at Ancestor Square\,</span></span></span></strong><span style="color:black\;"><span style="font-family:arial\,sans-serif\;"><span style="font-size:12.0pt\;"> is a free event open every Saturday in the courtyard at Ancestor Square\, located on St. George Blvd. and Main Street\, <strong>Historic Downtown St. George</strong>. Thirty plus vendors from all over Washington and Iron County\, seasonal farm fresh produce<strong>\,</strong> live plants\, fabric goods\, jewelry\, woodwork\, candles\, leather work\, breakfast burritos hot off the grill from Irmitas\, freshly baked pastries\, hot coffee\, lemonade\, water and more. This Market features anything and everything homegrown\, homemade and/or locally produced. Live music is featured every Saturday on center stage in the Square from 9:30am to 12 Noon\, this week music is Stillhouse Road.</span></span></span><span style="color:black\;"><span style="font-family:tahoma\,sans-serif\;"><span style="font-size:12.0pt\;"> Stillhouse Road features the talents of Joe and Paula Ferrario\, and offers a special blend of original songs\, bluegrass\, mountain music\, and gospel favorites. The music comes alive with vibrant vocals and the acoustic rhythms of guitar\, mandolin\, fiddle\, and bass.</span></span></span>
LOCATION:
UID:e.1117.2880
SEQUENCE:3
DTSTAMP:20260422T024136Z
URL:https://business.stgeorgechamber.com/events/details/downtown-farmers-market-at-ancestor-square-06-08-2013-2880
END:VEVENT

END:VCALENDAR
