BEGIN:VCALENDAR
VERSION:2.0
PRODID:-//ChamberMaster//Event Calendar 2.0//EN
METHOD:PUBLISH
X-PUBLISHED-TTL:P3D
REFRESH-INTERVAL:P3D
CALSCALE:GREGORIAN
BEGIN:VEVENT
DTSTART:20140524T140000Z
DTEND:20140524T180000Z
X-MICROSOFT-CDO-ALLDAYEVENT:FALSE
SUMMARY:Downtown Farmers Market at Ancestor Square
DESCRIPTION:The Downtown Farmers Market at Ancestor Square is a free event\, held every  Saturday\, from 8am to 12 noon in the courtyard at Ancestor Square\, located at St. George Blvd. and Main Street in Downtown St. George.   The Farmers Market  features a variety of vendors from all over Washington and Iron County\, selling seasonal produce\,  fruits and vegetables\, some organic produce is offered as well\, cheeses such as goat\, feta\, gouda and cheddar\, free range and  organic eggs\, free range organic beef\, pork and lamb\, local honey\, granola\, live plants\, cut flowers\, herbs\, fabric goods\, soaps and lotions\, jewelry\, woodwork\, hot coffee\, pastries and more.  Anything and everything homegrown\, homemade and/or locally produced.  We also feature local musicians playing on center stage\, from 9:30am   12 Noon. This week  we feature\, Johannes\, playing contemporary songs and old European folk songs.  Parking is located in the adjacent parking lot at Ancestor Square.
X-ALT-DESC;FMTTYPE=text/html:<p><span style="font-size:14px\;"><span style="font-family:arial\;"><span style="color:black\;">The Downtown Farmers Market at Ancestor Square is a free event\, held every&nbsp\; Saturday\, from 8am to 12 noon in the courtyard at Ancestor Square\, located at St. George Blvd. and Main Street in Downtown St. George.&nbsp\; &nbsp\;The Farmers Market&nbsp\; features a variety of vendors from all over Washington and Iron County\, selling <u>seasonal produce</u>\,&nbsp\; fruits and vegetables\, some organic produce is offered as well\, cheeses such as goat\, feta\, gouda and cheddar\, free range and&nbsp\; organic eggs\, free range organic beef\, pork and lamb\, local honey\, granola\, live plants\, cut flowers\, herbs\, fabric goods\, soaps and lotions\, jewelry\, woodwork\, hot coffee\, pastries and more.&nbsp\; Anything and everything homegrown\, homemade and/or locally produced.&nbsp\; We also feature local musicians playing on center stage\, from 9:30am &ndash\; 12 Noon. This week&nbsp\; we feature\, Johannes\, playing contemporary songs and old European folk songs. &nbsp\;Parking is located in the adjacent parking lot at Ancestor Square.&nbsp\; </span></span></span></p>\n
LOCATION:
UID:e.1117.5236
SEQUENCE:3
DTSTAMP:20260421T100507Z
URL:https://business.stgeorgechamber.com/events/details/downtown-farmers-market-at-ancestor-square-05-24-2014-5236
END:VEVENT

END:VCALENDAR
