BEGIN:VCALENDAR
VERSION:2.0
PRODID:-//ChamberMaster//Event Calendar 2.0//EN
METHOD:PUBLISH
X-PUBLISHED-TTL:P3D
REFRESH-INTERVAL:P3D
CALSCALE:GREGORIAN
BEGIN:VEVENT
DTSTART:20150530T140000Z
DTEND:20150530T180000Z
X-MICROSOFT-CDO-ALLDAYEVENT:FALSE
SUMMARY:Downtown Farmers Market
DESCRIPTION:The first Farmers Market for 2015 will be held on Mother's Day weekend\, Saturday\, May 9th in the center Courtyard at Ancestor Square\, located at St. George Blvd. and Main Street in downtown St. George.  The Farmers Market features vendors from all over Washington and Iron County\, selling goods such as organic fruits and vegetables\, free range organic eggs\, grass fed beef\, lamb\, pork\,  live plants\, herbs\, baked goods\, jams & preserves\, soaps & lotions\, jewelry\, photography\, pottery\, sculpture\, oil paintings\, woodwork and more\; anything and everything homegrown\, homemade and/or locally produced. EBT Horizon card accepted this season! Music Saturday is Stillhouse Road playing original music and traditional bluegrass. Stillhouse Road features the talents of Joe and Paula Ferrario\, and offers a special blend of original songs\, bluegrass\, mountain music\, and gospel favorites. The music comes alive with vibrant vocals and the acoustic rhythms of guitar\, mandolin\, fiddle\, and bass. New this season\, Perks! Is joining us\, come out and grab a cup of fresh coffee and a breakfast snack
X-ALT-DESC;FMTTYPE=text/html:<span style="color:black\;"><span style="font-family:arial\,sans-serif\;">The first Farmers Market for 2015 will be held on Mother&rsquo\;s Day weekend\, Saturday\, May 9<sup>th</sup> in the center Courtyard at Ancestor Square\, located at St. George Blvd. and Main Street in downtown St. George.&nbsp\; The Farmers Market features vendors from all over Washington and Iron County\, selling goods such as organic fruits and vegetables\, <em>free</em> range organic eggs\, grass fed beef\, lamb\, pork\,&nbsp\; live plants\, herbs\, baked goods\, jams &amp\; preserves\, soaps &amp\; lotions\, jewelry\, photography\, pottery\, sculpture\, oil paintings\, woodwork and more\; anything and everything homegrown\, homemade and/or locally produced. EBT Horizon card accepted this season! Music Saturday is <strong>Stillhouse Road</strong> playing original music and traditional bluegrass. <strong>Stillhouse Road</strong> features the talents of Joe and Paula Ferrario\, and offers a special blend of original songs\, bluegrass\, mountain music\, and gospel favorites. The music comes alive with vibrant vocals and the acoustic rhythms of guitar\, mandolin\, fiddle\, and bass. New this season\, Perks! Is joining us\, come out and grab a cup of fresh coffee and a breakfast snack</span></span>
LOCATION:Ancestor Square Courtyard
UID:e.1117.6397
SEQUENCE:3
DTSTAMP:20260420T173251Z
URL:https://business.stgeorgechamber.com/events/details/downtown-farmers-market-05-30-2015-6397
END:VEVENT

END:VCALENDAR
