BEGIN:VCALENDAR
VERSION:2.0
PRODID:-//ChamberMaster//Event Calendar 2.0//EN
METHOD:PUBLISH
X-PUBLISHED-TTL:P3D
REFRESH-INTERVAL:P3D
CALSCALE:GREGORIAN
BEGIN:VEVENT
DTSTART:20131122T230000Z
DTEND:20131123T020000Z
X-MICROSOFT-CDO-ALLDAYEVENT:FALSE
SUMMARY:Downtown Farmers Holiday Market
DESCRIPTION:Downtown Farmers Holiday Market in historic downtown St. George. Farmers and localy made arts\, crafts seasonal produce will be available at this market. Farmers will be bringing apples\, apple cider\, cheeses\, freshly baked breads\, local honey\, nuts\, and more. Local artisans will be selling jewelry\, leather and fabric goods\, lotions\, soaps\, pottery\, handmade cards. Locally made in Washington and Iron County. Ancestor Square is a beautiful place to spend time on a Friday night. We feature live music on center stage. November 22nd features 'Harry O" singing and entertaining.
X-ALT-DESC;FMTTYPE=text/html:Downtown Farmers Holiday Market in historic downtown St. George. Farmers and localy made arts\, crafts seasonal produce will be available at this market. Farmers will be bringing apples\, apple cider\, cheeses\, freshly baked breads\, local honey\, nuts\, and more. Local artisans will be selling jewelry\, leather and fabric goods\, lotions\, soaps\, pottery\, handmade cards. Locally made in Washington and Iron County. Ancestor Square is a beautiful place to spend time on a Friday night. We feature live music on center stage. November 22nd features &#39\;Harry O&quot\; singing and entertaining.
LOCATION:Ancestor Square in the Courtyard - the corner of St. George Blvd. and Main St.
UID:e.1117.4952
SEQUENCE:3
DTSTAMP:20260421T183611Z
URL:https://business.stgeorgechamber.com/events/details/downtown-farmers-holiday-market-11-22-2013-4952
END:VEVENT

END:VCALENDAR
